BEGIN:VCALENDAR
VERSION:2.0
CALSCALE:GREGORIAN
PRODID:https://kalender.karlsruhe.de/db/termine/
METHOD:PUBLISH
BEGIN:VEVENT
UID:578270
ORGANIZER;CN=Regierungspräsidium Karlsruhe:MAILTO:ausstellungen@rpk.bwl.de
LOCATION:Regierungspräsidium Karlsruhe am Rondellplatz
SUMMARY:Schwarzwald #AbenteuerHeimat
DESCRIPTION;ENCODING=QUOTED-PRINTABLE:Hier rauscht's f=C3=BCr mich=0D=0A=0D=0A  Nach dem Erfolg von vor zwei Jahren kehrt
  der Schwarzwald erneut  zur=C3=BCck nach Karlsruhe. Unter dem Motto =E2=80
 =9EHier rauscht=E2=80=99s f=C3=BCr mich=E2=80=9C werden  innovative Produkt
 e aus dem und zum Schwarzwald gezeigt.    Diese verbinden regionales K=C3
 =B6nnen und zeitgem=C3=A4=C3=9Fes  Design\, greifen das Charakteristische de
 s Schwarzwaldes auf und  =C3=BCbersetzen es in neue Formen und Funktionen. 
 Ob Lampen in Zapfenform\,  die Schwarzwald Marie als Playmobilm=C3=A4nnchen\,
  Schmuck in Bollenhutform  oder visuelle und =C2=A0kulinarische Gen=C3=BCss
 e=C2=A0 - lassen Sie sich einladen\, das  Rauschen des Schwarzwalds neu zu e
 rleben. Viele Produkt k=C3=B6nnen direkt  erworben werden.    Auch in diese
 m Jahr gibt es wieder zahlreiche  Aktionen: Natur ohne Str=C3=BCmpfe erlauf
 en auf dem Barfu=C3=9Fpark\, Kuh melken\,  Schauaktion =E2=80=9ESchwarzwald l
 ive=E2=80=9C\, Verkostung von Edelbranntweinen und  anderen Gen=C3=BCssen.  
   =0D=0A =20
URL:https://kalender.karlsruhe.de/db/termine/ausstellungen/schwarzwald_abenteuerheimat
CLASS:PUBLIC
DTSTART:20260320T000000
DTEND:20260503T000000
DTSTAMP:20260203T152620
CATEGORIES:Kunst, Ausstellungen
ATTACH:https://kalender.karlsruhe.de/db/termine/ausstellungen/schwarzwald_abenteuerheimat/file/icon_teaser_schwarzwald26.jpg
END:VEVENT

END:VCALENDAR
