BEGIN:VCALENDAR
VERSION:2.0
CALSCALE:GREGORIAN
PRODID:https://kalender.karlsruhe.de/db/termine/
METHOD:PUBLISH
BEGIN:VEVENT
UID:580780
ORGANIZER;CN=ZKM | Zentrum für Kunst und Medien Karlsruhe:MAILTO:info@zkm.de
LOCATION:Zentrum für Kunst und Medien (ZKM)
SUMMARY:Thinking inside out
DESCRIPTION;ENCODING=QUOTED-PRINTABLE:Post-Readymade=0D=0A=0D=0A  An einem sonnigen Tag im Februar 2023 wurde am Strand E
 nshu (Japan) eine gro=C3=9Fe Eisenkugel angesp=C3=BClt. Das Objekt im Sand 
 rief ein Gro=C3=9Faufgebot der =C3=B6rtlichen Polizei auf dem Plan und schl
 ug daraufhin ein paar Tage lang Wellen in der internationalen Presse. Unter
  Schlagzeilen wie =C2=BBSpy balloon\, UFO or Dragon Ball?=C2=AB (The Guardia
 n) zirkulierten Bilder und Videoclips von M=C3=A4nnern in Schutzanz=C3=BCge
 n\, die sich mit R=C3=B6ntgenger=C3=A4ten dem Ball n=C3=A4herten\, w=C3=A4hre
 nd Helikopter am Himmel kreisten.    "Post-Readymade" behandelt k=C3=BCnstl
 erisch appropriierte Objekte\, die ein komplexes Bezugssystem aus Infrastruk
 turen\, Fundorten\, Erfahrungsberichten und Herkunftsgeschichten umgibt. Mit 
 Werken von Luke Willis Thompson\, Hito Steyerl und Lindsay Lawson vor Augen 
 f=C3=BChrt Katharina Weinstock die Rezeptionsgeschichten von Duchamps =E2
 =80=9AReadymade=E2=80=98 und Bretons =E2=80=9AObjet Trouv=C3=A9=E2=80=98 pa
 rallel\, um aus ihrem Zusammenspiel den neuen Begriff =E2=80=9APost-Readymad
 e=E2=80=98 zu entwickeln.    In der gemeinsamen Vortragsreihe     thinking 
 inside out    von ZKM und HfG laden wir G=C3=A4ste aus den Bereichen Philos
 ophie\, Literatur und Kunst zu einem offenen Austausch mit Universit=C3=A4ts
 mitgliedern\, ZKM-Mitarbeiter:innen und den Menschen in Karlsruhe ein. =20
URL:https://kalender.karlsruhe.de/db/termine/ausstellungen/thinking_inside_out
CLASS:PUBLIC
DTSTART:20260513T180000
DTSTAMP:20260415T102440
CATEGORIES:Kunst, Ausstellungen
ATTACH:https://kalender.karlsruhe.de/db/termine/ausstellungen/thinking_inside_out/file/icon_miners-Uruguay.jpg
END:VEVENT

END:VCALENDAR
