BEGIN:VCALENDAR
VERSION:2.0
CALSCALE:GREGORIAN
PRODID:https://kalender.karlsruhe.de/db/termine/
METHOD:PUBLISH
BEGIN:VEVENT
UID:580782
ORGANIZER;CN=ZKM | Zentrum für Kunst und Medien Karlsruhe:MAILTO:info@zkm.de
LOCATION:Zentrum für Kunst und Medien (ZKM)
SUMMARY:TURNS ECO/EXO: WOLVES AND THROATS
DESCRIPTION;ENCODING=QUOTED-PRINTABLE:Pedro Almiro x Elaine Mitchener=0D=0A=0D=0A    WOLVES AND THROATS    versammelt ein
 e der bedeutendsten Vokalistinnen unserer Zeit\, Elaine Mitchener (MBE)\, mit
  Perkussionist und Klangethnograph Pedro Almiro. Mitchener lotet die gesamt
 e Spannweite der Stimme aus im dichten Feld elektronischer Kl=C3=A4nge. Alm
 iro\, formt aus selbst aufgezeichneten Wolfges=C3=A4ngen eine Komposition\, d
 ie uns in die Ch=C3=B6re dieser Spezies eintauchen l=C3=A4sst. Gemeinsam en
 tsteht ein viszerales Ritual =C3=BCber menschliche und nicht-menschliche St
 immb=C3=A4nder\, =C3=BCber Chor\, Kollektiv und das Heulen als Lamento.    De
 r neue Zyklus     ECO/EXO    =C3=BCberf=C3=BChrt zentrale Spannungsfelder d
 er Gegenwart in immersive Klangr=C3=A4ume und verbindet =C3=B6kologische Fr
 agilit=C3=A4t mit spekulativen\, au=C3=9Ferirdischen Perspektiven. Beide k
 =C3=BCnstlerischen Positionen nutzen den Raum als aktives kompositorisches 
 Element und arbeiten mit vielschichtigen elektroakustischen Verfahren. Das 
 Konzert stellt zwei unterschiedliche Herangehensweisen an Material\, Wahrneh
 mung und Zeit gegen=C3=BCber. Gemeinsam er=C3=B6ffnen die Werke neue H=C3
 =B6rperspektiven zwischen K=C3=B6rper\, Umwelt und Imagination. =20
URL:https://kalender.karlsruhe.de/db/termine/ausstellungen/turns_ecoexo_wolves_and_throats
CLASS:PUBLIC
DTSTART:20260521T190000
DTSTAMP:20260415T102715
CATEGORIES:Kunst, Ausstellungen
ATTACH:https://kalender.karlsruhe.de/db/termine/ausstellungen/turns_ecoexo_wolves_and_throats/file/icon_ZKM000253704.jpg
END:VEVENT

END:VCALENDAR
