BEGIN:VCALENDAR
VERSION:2.0
CALSCALE:GREGORIAN
PRODID:https://kalender.karlsruhe.de/db/termine/
METHOD:PUBLISH
BEGIN:VEVENT
UID:580868
ORGANIZER;CN=Die Orgelfabrik Kultur in Durlach e.V:MAILTO:info@orgelfabrik-verein.de
LOCATION:OrgelFabrikSalon
SUMMARY:>wandler<
DESCRIPTION;ENCODING=QUOTED-PRINTABLE:Ausstellung Martin Pfeiffer/mar+=0D=0A=0D=0A  Die Ausstellung mit dem Titel >wandle
 r< versammelt medial unterschiedliche Objekte und Bilder\, die sowohl in ein
  Verh=C3=A4ltnis zum Raum als auch in eine =C3=A4sthetisch und inhaltlich s
 pannungshaltige Beziehung zueinander gestellt sind.    martin pfeiffer/mar+
  hat an der Staatlichen Akademie der K=C3=BCnste in Stuttgart Grafik und Ma
 lerei und an der Universit=C3=A4t Stuttgart Kunstgeschichte im Lehramt stud
 iert und war bis 2022 als wissenschaftlicher und k=C3=BCnstlerischer Mitarb
 eiter am Institut f=C3=BCr Kunst an der PH-Karlsruhe t=C3=A4tig. Seine proj
 ektorientierte Arbeit lotet imaginative R=C3=A4ume aus und versucht jene En
 ergie produktiv zu machen\, die aus der Differenz zwischen Erwartung und Ere
 ignis entsteht.    Aus Sicherheitsgr=C3=BCnden k=C3=B6nnen sich max. 4 Pers
 onen im Ausstellungsraum aufhalten.    Vernissage: 30. April 2026\, 18 Uhr  
   =C3=96ffnungszeiten: Fr/Sa/So 15 =E2=80=93 20 Uhr    Eintritt frei    =0D=0A 
 =20
URL:https://kalender.karlsruhe.de/db/termine/ausstellungen/wandler
CLASS:PUBLIC
DTSTART:20260430T000000
DTEND:20260503T000000
DTSTAMP:20260415T100241
CATEGORIES:Kunst, Ausstellungen
ATTACH:https://kalender.karlsruhe.de/db/termine/ausstellungen/wandler/file/icon_Wandler@Pfeiffer.jpg
END:VEVENT

END:VCALENDAR
