BEGIN:VCALENDAR
VERSION:2.0
CALSCALE:GREGORIAN
PRODID:https://kalender.karlsruhe.de/db/termine/
METHOD:PUBLISH
BEGIN:VEVENT
UID:579647
ORGANIZER;CN=Regierungspräsidium Karlsruhe:MAILTO:ausstellungen@rpk.bwl.de
LOCATION:Regierungspräsidium Karlsruhe am Rondellplatz
SUMMARY:Wir gestalten eine Kunstwand - Schicht für Schicht = Schwarzwald
DESCRIPTION;ENCODING=QUOTED-PRINTABLE:Mal- und Bastelangebot im Rahmen der Ausstellung Schwarzwald - Hier rauscht
 's f=C3=BCr mich=0D=0A=0D=0A  Tauche mit uns ein in die faszinierende Welt des Schw
 arzwalds! Gemeinsam legen wir Schicht f=C3=BCr Schicht eine gro=C3=9Fe Kuns
 twand an =E2=80=93 mit bunten Collagen\, fantasievollen Bildern und kreative
 n Bastelideen. Jede Schicht erz=C3=A4hlt eine neue Geschichte: von dunklen 
 Tannenw=C3=A4ldern =C3=BCber geheimnisvolle Pfade bis hin zu leuchtenden Fa
 rben und Formen. Ob Tannen\, Bollen oder T=C3=B6rtchen... mach mit und lass 
 deiner Kreativit=C3=A4t freien Lauf =E2=80=93 zusammen erschaffen wir ein e
 inzigartiges Kunstwerk!    Jeden Donnerstag von 15 - 18 Uhr - ohne Anmeldun
 g    Termine: 26.03. / 02.04. / 09.04. / 16.4. / 23.4. / 30.4.    Das Angeb
 ot wird veranstaltet und betreut durch die freischaffende K=C3=BCnstlerin V
 ilma Potzy. =20
URL:https://kalender.karlsruhe.de/db/termine/ausstellungen/wir_gestalten_eine_kunstwand_schicht
CLASS:PUBLIC
DTSTART:20260326T150000
DTEND:20260326T180000
DTSTAMP:20260303T104702
CATEGORIES:Kunst, Ausstellungen
ATTACH:https://kalender.karlsruhe.de/db/termine/ausstellungen/wir_gestalten_eine_kunstwand_schicht/file/icon_teaser_schwarzwald26_Basteln.jpg
END:VEVENT

END:VCALENDAR
