BEGIN:VCALENDAR
VERSION:2.0
CALSCALE:GREGORIAN
PRODID:https://kalender.karlsruhe.de/db/termine/
METHOD:PUBLISH
BEGIN:VEVENT
UID:580494
ORGANIZER;CN=Klimabündnis:MAILTO:info@klimabuendnis-karlsruhe.de
LOCATION:Kinemathek Karlsruhe e.V.
SUMMARY:"Atomkraftwerke im Krieg"
DESCRIPTION;ENCODING=QUOTED-PRINTABLE:FILMREIHE KLIMA|KRISEN|UTOPIEN=0D=0A=0D=0A  FILMREIHE KLIMA|KRISEN|UTOPIEN: "Atomkr
 aftwerke im Krieg"    Sonntag\, 26.04.2026\, 17 Uhr\, Film und Gespr=C3=A4ch\, 
 Kinemathek    Tickets: https://kinemathek-karlsruhe.de/film/atomkraftwerke-
 im-krieg/    Die Ukraine steht im Winter 2024/2025 vor ihrem bisher schlimm
 sten Winter. Bomben und Drohnen zerst=C3=B6ren die Infrastruktur und gef=C3
 =A4hrden die Sicherheit von Kernkraftwerken. Hinzu kommt die Besetzung durc
 h das russische Milit=C3=A4r. Gefl=C3=BCchtete Kraftwerksmitarbeiter berich
 ten von der trostlosen Lage im besetzten Kernkraftwerk Saporischschja. Dies
 er fesselnde Dokumentarfilm enth=C3=BCllt die au=C3=9Fergew=C3=B6hnlichen G
 eschichten des unerbittlichen Kampfes\, die Ukraine vor der n=C3=A4chsten At
 omkatastrophe zu bewahren. Inwieweit sind die strengen Sicherheitsvorkehrun
 gen von Saporischschja\, Europas gr=C3=B6=C3=9Ftem Kernkraftwerk\, dem Krieg 
 zum Opfer gefallen? Werden Sie Zeuge geheimer Raketenangriffssimulationen u
 nd erhalten Sie exklusive Einblicke aus erster Hand in die Lage in Tscherno
 byl w=C3=A4hrend der russischen Besatzung.  =0D=0A =20
URL:https://kalender.karlsruhe.de/db/termine/literatur/atomkraftwerke_im_krieg
CLASS:PUBLIC
DTSTART:20260426T170000
DTEND:20260426T190000
DTSTAMP:20260330T115538
CATEGORIES:Literatur, Vorträge
ATTACH:https://kalender.karlsruhe.de/db/termine/literatur/atomkraftwerke_im_krieg/file/icon_Atomkraftwerke im Krieg.jpg
END:VEVENT

END:VCALENDAR
