BEGIN:VCALENDAR
VERSION:2.0
CALSCALE:GREGORIAN
PRODID:https://kalender.karlsruhe.de/db/termine/
METHOD:PUBLISH
BEGIN:VEVENT
UID:580608
ORGANIZER;CN=vhs Karlsruhe:MAILTO:info@vhs-karlsruhe.de
LOCATION:vhs Karlsruhe
SUMMARY:Auf Entdeckungsreise gehen...
DESCRIPTION;ENCODING=QUOTED-PRINTABLE:nach Rum=C3=A4nien und Bulgarien=0D=0A=0D=0A  Bild: Rumjana Hilpert    Sind Sie auf
  der Suche nach neuen Reisezielen\, m=C3=B6chten Sie die Vielfalt des Balkan
 s erleben oder denken Sie sogar dar=C3=BCber nach\, in einem dieser faszinie
 renden L=C3=A4nder zu leben?    In diesem Vortrag erhalten Sie wertvolle Ei
 nblicke und lernen die Menschen\, die Kultur und die einzigartige Natur von 
 Rum=C3=A4nien und Bulgarien kennen.    Erfahren Sie mehr =C3=BCber die reic
 he Geschichte und Traditionen dieser L=C3=A4nder\, =C3=BCber die faszinieren
 de Natur von den Karpaten und Transsilvanien bis zu den schwarzen Str=C3=A4
 nden am Schwarzen Meer\, =C3=BCber die herzliche Gastfreundschaft der Mensch
 en. Wie sieht das Alltagsleben aus? Und auch: Mit welchen Schwierigkeiten h
 aben die Menschen dort zu k=C3=A4mpfen und wie ist das Lebensgef=C3=BChl?  
   Rumjana Hilpert\, eine Kennerin des Donauraums\, gibt viele Informationen u
 nd Eindr=C3=BCcke\, um diese L=C3=A4nder besser kennen zu lernen und Sie k
 =C3=B6nnen Ihre Fragen stellen!    Anmeldung erforderlich! =20
URL:https://kalender.karlsruhe.de/db/termine/literatur/auf_entdeckungsreise_gehen
CLASS:PUBLIC
DTSTART:20260613T183000
DTEND:20260613T200000
DTSTAMP:20260408T093021
CATEGORIES:Literatur, Vorträge
ATTACH:https://kalender.karlsruhe.de/db/termine/literatur/auf_entdeckungsreise_gehen/file/icon_Hilpert 001.jpg
END:VEVENT

END:VCALENDAR
