BEGIN:VCALENDAR
VERSION:2.0
CALSCALE:GREGORIAN
PRODID:https://kalender.karlsruhe.de/db/termine/
METHOD:PUBLISH
BEGIN:VEVENT
UID:580504
ORGANIZER;CN=Bildungszentrum Roncalli-Forum Karlsruhe (Bildungswerk der Erzdiözese Freiburg):MAILTO:info@roncalli-forum.de
LOCATION:Erlöserkirche der Evangelischen methodistischen Kirche
SUMMARY:"Aus dem Glauben heraus wachsam ..."
DESCRIPTION;ENCODING=QUOTED-PRINTABLE:Akademie der =C3=A4lteren Generation=0D=0A=0D=0A  Referentin: Pfrin. i.R. Sibylle B
 iermann-Rau\, T=C3=BCbingen    Die Historikerin Elisabeth Schmitz und ihr Ei
 nsatz f=C3=BCr Juden im Nationalsozialismus.    1936\, vor 100 Jahren vervol
 lst=C3=A4ndigte die Lehrerin und Historikerin Elisabeth Schmitz ihre Denksc
 hrift =E2=80=9EZur Lage der deutschen Nichtarier=E2=80=9C mit einem Nachtra
 g. Sie reagierte damit unmittelbar in hellsichtiger und mutiger Weise auf d
 ie rassistischen und diskriminierenden N=C3=BCrnberger Gesetze vom Septembe
 r 1935. Doch was sie unter f=C3=BCr sie lebensgef=C3=A4hrlichen Bedingungen
  ausarbeitete\, vervielf=C3=A4ltigte und an M=C3=A4nner der sogenannten Beke
 nnenden Kirche weitergab\, um zum Widerstand zu bewegen\, blieb weitgehend oh
 ne Resonanz. Auch ihr pers=C3=B6nlicher Einsatz\, verfolgte j=C3=BCdische Me
 nschen zu beherbergen\, konnte erst 2011 mit der Aufnahme unter die =E2=80
 =9EGerechten der V=C3=B6lker=E2=80=9C in der Gedenkst=C3=A4tte Jad vaShem (
 Jerusalem) gew=C3=BCrdigt werden.    Mit dem Vortrag durch die Theologin Si
 bylle Biermann Rau (geb. 1955) wird Leben und Werk Elisabeth Schmitz=E2=80
 =98 zu Recht ein St=C3=BCck mehr dem Vergessen entrissen. =20
URL:https://kalender.karlsruhe.de/db/termine/literatur/aus_dem_glauben_heraus_wachsam
CLASS:PUBLIC
DTSTART:20260427T160000
DTEND:20260427T173000
DTSTAMP:20260330T115322
CATEGORIES:Literatur, Vorträge
ATTACH:https://kalender.karlsruhe.de/db/termine/literatur/aus_dem_glauben_heraus_wachsam/file/icon_ID_3034_AdäG blau_ITEM.jpg
END:VEVENT

END:VCALENDAR
