BEGIN:VCALENDAR
VERSION:2.0
CALSCALE:GREGORIAN
PRODID:https://kalender.karlsruhe.de/db/termine/
METHOD:PUBLISH
BEGIN:VEVENT
UID:580979
ORGANIZER;CN=Karlsruher Energie- und Klimaschutzagentur:MAILTO:info@kek-karlsruhe.de
LOCATION:Online Veranstaltung
SUMMARY:Balkon-PV clever nutzen: Lohnt sich ein Speicher wirklich?
DESCRIPTION;ENCODING=QUOTED-PRINTABLE:Solarstrom vom Balkon: Technik\, Kosten und Speicher einfach erkl=C3=A4rt in
  unserem Online-Vortrag am 12.05. von 17 bis 18 Uhr.=0D=0A=0D=0A  Eigener Solarstro
 m =E2=80=93 auch ohne Dach? Ja\, das geht! In unserem Online-Vortrag zeigt I
 hnen die Photovoltaik-Expertin     Vanessa Herhoffer (KEK)    \, wie Sie mit
  einer Steckersolaranlage ganz einfach auf dem Balkon\, der Terrasse oder an
  der Fassade Strom erzeugen k=C3=B6nnen.  =0D=0A  =0D=0A  Der  Vortrag richtet sich
  an alle\, die ihre Stromkosten senken und einen  Beitrag zur Energiewende l
 eisten m=C3=B6chten. Nat=C3=BCrlich bleibt auch  ausreichend Zeit f=C3=BCr 
 individuellen Fragen.    =C2=A9 KEK =20
URL:https://kalender.karlsruhe.de/db/termine/literatur/balkon_pv_clever_nutzen_lohnt_sich_ein-2
CLASS:PUBLIC
DTSTART:20260512T170000
DTEND:20260512T180000
DTSTAMP:20260417T091241
CATEGORIES:Literatur, Vorträge
ATTACH:https://kalender.karlsruhe.de/db/termine/literatur/balkon_pv_clever_nutzen_lohnt_sich_ein-2/file/icon_copyright-KEK-Bild-balkonPV.jpg
END:VEVENT

END:VCALENDAR
