BEGIN:VCALENDAR
VERSION:2.0
CALSCALE:GREGORIAN
PRODID:https://kalender.karlsruhe.de/db/termine/
METHOD:PUBLISH
BEGIN:VEVENT
UID:578952
ORGANIZER;CN=Stadtbibliothek Karlsruhe - Stadtteilbibliothek Durlach:MAILTO:bibliothek-durlach@kultur.karlsruhe.de
LOCATION:Stadtbibliothek Karlsruhe - Stadtteilbibliothek Durlach
SUMMARY:Bastelzeit
DESCRIPTION;ENCODING=QUOTED-PRINTABLE:F=C3=BCr Kinder ab 7 Jahren | Kostenfrei\, mit Anmeldung=0D=0A=0D=0A  Kreative K=C3
 =B6pfe aufgepasst! In unserer Bastelzeit k=C3=B6nnen Kinder ab 7 Jahren ihr
 er Fantasie freien Lauf lassen. Wir schneiden\, kleben\, malen und gestalten 
 kleine Kunstwerke\, die stolz mit nach Hause genommen werden k=C3=B6nnen.   
          =0D=0A          Zielgruppe:    ab 7 Jahren     =0D=0A   =0D=0A   Anmeldung:   
  =C3=BCber die Stadtteilbibliothek     =0D=0A   =0D=0A   Eintritt:    kostenfrei   
   =0D=0A   =0D=0A   Ort:    Stadtteilbibliothek Durlach  =0D=0A    =0D=0A         =0D=0A      F
 oto: Krauthauser       =20
URL:https://kalender.karlsruhe.de/db/termine/literatur/bastelzeit
CLASS:PUBLIC
DTSTART:20260625T160000
DTEND:20260625T170000
DTSTAMP:20260417T112718
CATEGORIES:Literatur, Vorträge
ATTACH:https://kalender.karlsruhe.de/db/termine/literatur/bastelzeit/file/icon_Afrika.jpg
END:VEVENT

END:VCALENDAR
