BEGIN:VCALENDAR
VERSION:2.0
CALSCALE:GREGORIAN
PRODID:https://kalender.karlsruhe.de/db/termine/
METHOD:PUBLISH
BEGIN:VEVENT
UID:578913
ORGANIZER;CN=Stadtbibliothek Karlsruhe - Stadtteilbibliothek Grötzingen:MAILTO:bibliothek-groetzingen@kultur.karlsruhe.de
LOCATION:Stadtbibliothek Karlsruhe - Stadtteilbibliothek Grötzingen
SUMMARY:BERATUNG: Energiekosten sparen? – Nur wie?
DESCRIPTION;ENCODING=QUOTED-PRINTABLE:Kostenfrei\, ohne Anmeldung | In Kooperation mit KEK=0D=0A=0D=0A  Shirin Rashedi und
  Yasmin Yekini von der Karlsruher Energie- und Klimaschutzagentur (KEK) zei
 gen\, wie einfach Energiesparen im Alltag sein kann. Die Expertinnen geben p
 raktische Tipps f=C3=BCr Zuhause und stellen sie den Stromspar-Check vor: D
 ie Beratung bringt nicht nur Entlastung f=C3=BCr den Geldbeutel\, sondern le
 istet auch einen wertvollen Beitrag zum Klimaschutz. Sie k=C3=B6nnen Ihren 
 pers=C3=B6nlichen Beratungstermin direkt im Anschluss an die Veranstaltung 
 vereinbaren.    Eine Kooperation mit=C2=A0Karlsruher Energie- und Klimaschu
 tzagentu.    =0D=0A      Zielgruppe    : alle Interessierten      Anmeldung:   
  ohne      Eintritt:    kostenfrei      Ort:    Stadtteilbibliothek Gr=C3
 =B6tzingen  =0D=0A    =0D=0A    =0D=0A    Bilder: KEK =20
URL:https://kalender.karlsruhe.de/db/termine/literatur/beratung_energiekosten_sparen_nur_wie
CLASS:PUBLIC
DTSTART:20260423T160000
DTEND:20260423T180000
DTSTAMP:20260210T115807
CATEGORIES:Literatur, Vorträge
ATTACH:https://kalender.karlsruhe.de/db/termine/literatur/beratung_energiekosten_sparen_nur_wie/file/icon_2026.04.23_KEK Foto von KEK.jpg
END:VEVENT

END:VCALENDAR
