BEGIN:VCALENDAR
VERSION:2.0
CALSCALE:GREGORIAN
PRODID:https://kalender.karlsruhe.de/db/termine/
METHOD:PUBLISH
BEGIN:VEVENT
UID:575482
ORGANIZER;CN=Stadtbibliothek Karlsruhe - Kinder- und Jugendbibliothek im Prinz-Max-Palais:MAILTO:jugendbibliothek@kultur.karlsruhe.de
LOCATION:Kinemathek Karlsruhe
SUMMARY:Bilderbuchkino mit Basteln: Pettersson, Findus & Co. - Die fabelhafte Welt von Sven Nordqvist
DESCRIPTION;ENCODING=QUOTED-PRINTABLE:Pettersson\, Findus & Co. - Die fabelhafte Welt von Sven Nordqvist=0D=0A=0D=0A    Gr
 o=C3=9Fes Kino f=C3=BCr spannende Geschichten! Begleitet Findus auf seiner 
 wilden H=C3=BChnerjagd oder Mama Muh und Kr=C3=A4he bei ihren verr=C3=BCckt
 en Abenteuern =E2=80=93 und das alles auf der gro=C3=9Fen Leinwand! W=C3=A4
 hrend dieses besonderen Vorlese-Events k=C3=B6nnt ihr es euch auf den Kinos
 esseln gem=C3=BCtlich machen und in Sven Nordqvists liebevoll gestaltete Bi
 lderwelten eintauchen.        Im Anschluss gibt es eine Bastelaktion (begre
 nzte Platzanzahl).        Eine Kooperation mit der Jungen Kunsthalle und de
 r Kinemathek Karlsruhe.        =0D=0A          Zielgruppe    : alle Kinder     
  Anmeldung:    ohne Anmeldung      Eintritt:    kostenfrei      Ort:    Kin
 emathek Karlsruhe  =0D=0A    =0D=0A    Bilder: VG Bild-Kunst\, Bonn 2025 =20
URL:https://kalender.karlsruhe.de/db/termine/literatur/bilderbuchkino_mit_basteln_pettersson-2
CLASS:PUBLIC
DTSTART:20261219T160000
DTEND:20261219T173000
DTSTAMP:20251127T132411
CATEGORIES:Literatur, Vorträge
ATTACH:https://kalender.karlsruhe.de/db/termine/literatur/bilderbuchkino_mit_basteln_pettersson-2/file/icon_Sven Nordqvist, Aufruhr im Gemüsebeet © VG Bild-Kunst, Bonn 2025.jpg
END:VEVENT

END:VCALENDAR
