BEGIN:VCALENDAR
VERSION:2.0
CALSCALE:GREGORIAN
PRODID:https://kalender.karlsruhe.de/db/termine/
METHOD:PUBLISH
BEGIN:VEVENT
UID:580555
ORGANIZER;CN=Stadtbibliothek Karlsruhe - Amerikanische Bibliothek:MAILTO:bibliothek-amerika@kultur.karlsruhe.de
LOCATION:Stadtbibliothek Karlsruhe - Amerikanische Bibliothek - Buchclub
SUMMARY:Book Club
DESCRIPTION;ENCODING=QUOTED-PRINTABLE:for adults | Free\, call ahead=0D=0A=0D=0A  We invite you to join us for banter\, bab
 ble\, conversation\, debate\, and polite exchange about  =0D=0A  Drive Your Plow O
 ver the Bones of the Dead (by Olga Tokarczuk)  =0D=0A  You may read the book in
  any language\, but discussion is in English. Please read the book beforehan
 d!  =0D=0A  For adults. Free. Please call to reserve a spot!  =0D=0A     =0D=0A      =0D=0A
       Bild    : AdobeStock - Andrey Popov  =0D=0A  =0D=0A   =0D=0A =20
URL:https://kalender.karlsruhe.de/db/termine/literatur/book_club-2
CLASS:PUBLIC
DTSTART:20260618T190000
DTEND:20260618T210000
DTSTAMP:20260327T131705
CATEGORIES:Literatur, Vorträge
ATTACH:https://kalender.karlsruhe.de/db/termine/literatur/book_club-2/file/icon_SB_Aushang_Buchclub-AmericanLibrary_WEB.jpg
END:VEVENT

END:VCALENDAR
