BEGIN:VCALENDAR
VERSION:2.0
CALSCALE:GREGORIAN
PRODID:https://kalender.karlsruhe.de/db/termine/
METHOD:PUBLISH
BEGIN:VEVENT
UID:579228
ORGANIZER;CN=Stadtbibliothek Karlsruhe - Stadtbibliothek im Neuen Ständehaus:MAILTO:stadtbibliothek@kultur.karlsruhe.de
LOCATION:Stadtbibliothek Karlsruhe - Kinder- und Jugendbibliothek Karlsruhe im Prinz-Max-Palais
SUMMARY:BOYS' DAY "Behind the scenes Stadtbibliothek" -- AUSGEBUCHT --
DESCRIPTION;ENCODING=QUOTED-PRINTABLE:Ab Klasse 5 | mit Anmeldung\, kostenfrei=0D=0A=0D=0A  Was macht eigentlich ein Bibli
 othekar? Welche Aufgaben hat ein Fami?  Und wie kommt das Buch in die Bibli
 othek? Am Boys Day laden wir Sch=C3=BCler  ab Klasse 5 ein\, einen Tag hinte
 r die Kulissen der Stadtbibliothek zu  schauen. Bei spannenden Programmpunk
 ten wie einer interaktiven Rallye\,  dem Gestalten einer eigenen Buchpr=C3
 =A4sentation und mehr lernt ihr exklusiv  die Arbeit in der Stadtbibliothek
  im Neuen St=C3=A4ndehaus und der Kinder-  und Jugendbibliothek kennen.    
 =0D=0A      Zielgruppe:    Jungen ab Klasse 5      Eintritt:    kostenfrei     
  Anmeldung:    ausbildung.stadtbibliothek@kultur.karlsruhe.de -- AUSGEBUCHT
  --      Ort:    Stadtteilbibliothek im Neuen St=C3=A4ndehaus und Kinder- u
 nd Jugendbibliothek  =0D=0A     Bild: AdobeStock - Marc Elias   =20
URL:https://kalender.karlsruhe.de/db/termine/literatur/boys_day_behind_the_scenes_stadtbibliothek_ausgebucht_
CLASS:PUBLIC
DTSTART:20260423T100000
DTEND:20260423T160000
DTSTAMP:20260306T120009
CATEGORIES:Literatur, Vorträge
ATTACH:https://kalender.karlsruhe.de/db/termine/literatur/boys_day_behind_the_scenes_stadtbibliothek_ausgebucht_/file/icon_2026.04.23._AdobeStock_Marc Elias.jpg
END:VEVENT

END:VCALENDAR
