BEGIN:VCALENDAR
VERSION:2.0
CALSCALE:GREGORIAN
PRODID:https://kalender.karlsruhe.de/db/termine/
METHOD:PUBLISH
BEGIN:VEVENT
UID:579746
ORGANIZER;CN=Stadtbibliothek Karlsruhe - Kinder- und Jugendbibliothek im Prinz-Max-Palais:MAILTO:jugendbibliothek@kultur.karlsruhe.de
LOCATION:Stadtbibliothek Karlsruhe - Kinder- und Jugendbibliothek Karlsruhe im Prinz-Max-Palais
SUMMARY:Bücherflohmarkt
DESCRIPTION;ENCODING=QUOTED-PRINTABLE:F=C3=BCr Kinder und Familien=0D=0A=0D=0A  St=C3=B6bert euch durch eine bunte Auswah
 l an Romanen\, Kinderb=C3=BCchern\, Sachb=C3=BCchern und echten Lieblingsst
 =C3=BCcken aus zweiter Hand. Viele B=C3=BCcher gibt es     zum Kauf f=C3=BC
 r einen kleinen Preis    =E2=80=93 perfekt\, um neue Geschichten zu entdecke
 n und alten Sch=C3=A4tzen ein neues Zuhause zu geben!    =0D=0A      Zielgruppe
 :    alle Interessierten      Anmeldung:    ohne Anmeldung     =0D=0A   =0D=0A   Ei
 ntritt:    kostenfrei     =0D=0A   =0D=0A   Ort:    Kinder- und Jugendbibliothek\, U
 -Boot  =0D=0A    =0D=0A    =0D=0A         Foto: Adobe Stock      - Pavel       =0D=0A     
 =20
URL:https://kalender.karlsruhe.de/db/termine/literatur/bucherflohmarkt-1
CLASS:PUBLIC
DTSTART:20260421T100000
DTEND:20260421T160000
DTSTAMP:20260304T101751
CATEGORIES:Literatur, Vorträge
ATTACH:https://kalender.karlsruhe.de/db/termine/literatur/bucherflohmarkt-1/file/icon_AdobeStock_1498906005.jpg
END:VEVENT

END:VCALENDAR
