BEGIN:VCALENDAR
VERSION:2.0
CALSCALE:GREGORIAN
PRODID:https://kalender.karlsruhe.de/db/termine/
METHOD:PUBLISH
BEGIN:VEVENT
UID:580472
ORGANIZER;CN=EUROPE DIRECT Karlsruhe:MAILTO:europa@rpk.bwl.de
LOCATION:vhs Karlsruhe
SUMMARY:Das Beste Europa aller Zeiten - Unerhörte Ideen für ein besseres Morgen
DESCRIPTION;ENCODING=QUOTED-PRINTABLE:Interaktive Lesung & Austausch mit Katja Sinko=0D=0A=0D=0A  Europa hat schon besser
 e Zeiten gesehen: Rechtsruck\, Polarisierung\, festgefahrene Strukturen. Also
  aufgeben? Keine Option.    Katja Sinko und Peter Jelinek zeigen in ihrem B
 uch\, dass Europa mehr sein kann als ein politisches System. Sie laden dazu 
 ein\, Ideen zu denken\, die unerh=C3=B6rt\, dringend und l=C3=A4ngst =C3=BCber
 f=C3=A4llig sind. Ihre Vision: Ein Europa\, das nicht nur verwaltet\, sondern
  gestaltet. Ein Europa\, das den Alltag seiner B=C3=BCrger:innen sp=C3=BCrba
 r besser macht.    Diese interaktive Lesung ist mehr als ein Buchabend: Sie
  ist Gespr=C3=A4ch\, Ideenschmiede und Einladung zum Mitmachen. Gemeinsam mi
 t dem Publikum werden Ideen weitergedacht\, die unbequem\, dringend und l=C3
 =A4ngst =C3=BCberf=C3=A4llig sind: Wie kann ein Europa aussehen\, das nicht 
 nur verwaltet\, sondern gestaltet? Und welche Rolle spielen wir dabei?    Di
 ese Veranstaltung verbindet Lesung\, Gespr=C3=A4ch und Beteiligung =E2=80=94
  als Raum f=C3=BCr Diskussion\, Widerspruch und neue Perspektiven.    =0D=0A =20
URL:https://kalender.karlsruhe.de/db/termine/literatur/das_beste_europa_aller_zeiten_unerhorte
CLASS:PUBLIC
DTSTART:20260512T190000
DTEND:20260512T203000
DTSTAMP:20260330T115536
CATEGORIES:Literatur, Vorträge
ATTACH:https://kalender.karlsruhe.de/db/termine/literatur/das_beste_europa_aller_zeiten_unerhorte/file/icon_8_ChristianSchneider.jpg
END:VEVENT

END:VCALENDAR
