BEGIN:VCALENDAR
VERSION:2.0
CALSCALE:GREGORIAN
PRODID:https://kalender.karlsruhe.de/db/termine/
METHOD:PUBLISH
BEGIN:VEVENT
UID:580428
ORGANIZER;CN=Klimabündnis:MAILTO:info@klimabuendnis-karlsruhe.de
LOCATION:Kinemathek Karlsruhe e.V.
SUMMARY:„Das Gewicht der Welt - Naturwissenschaften in Zeiten des Klimawandels“
DESCRIPTION;ENCODING=QUOTED-PRINTABLE:FILMREIHE KLIMA | KRISEN | UTOPIEN=0D=0A=0D=0A  FILMREIHE KLIMA | KRISEN | UTOPIEN 
    =E2=80=9EDas Gewicht der Welt - Naturwissenschaften in Zeiten des Klimaw
 andels=E2=80=9C    (D 2026\, 95 Min.\, Regie: Florian Heinzen-Ziob)    Kinema
 thek Karlsruhe\, 27. Mai\, 19:00 Uhr\, https://kinemathek-karlsruhe.de    Scho
 n als Kinder haben sie davon getr=C3=A4umt\, das ewige Eis der Arktis zu unt
 ersuchen\, den Weltraum zu erforschen und zu verstehen\, wie Leben entsteht. 
 Heute untersucht Maria am Alfred-Wegener-Institut tausende Jahre altes Eis.
  Sebastian lehrt und forscht an der Universit=C3=A4t an Polymeren und Nana 
 erforscht an der Berliner Charit=C3=A9 biologische Grundlagen des Zellstoff
 wechsel. Der Klimawandel =C3=BCberschattet ihre Arbeit: Als Naturwissenscha
 ftler:innen sollen sie sachlich sein\, es gilt: Fakten statt Gef=C3=BChle. D
 er Film zeigt wie sich Maria\, Sebastian und Nana den bedrohlichen Fakten ih
 rer Forschung =C3=BCber den Klimawandel stellen und gesellschaftliche Veran
 twortung =C3=BCbernehmen\, denn sie sp=C3=BCren auf ihren Schultern das Gewi
 cht der Welt. Ein mutmachender Blick auf den Klimawandel aus Sicht von Natu
 rwissenschaftler:innen\, von denen wir lernen k=C3=B6nnen\, uns den existenzi
 ellen Herausforderungen des 21. Jahrhunderts zu stellen\, ohne daran zu zerb
 rechen.    Nach dem Film Gespr=C3=A4ch mit Regisseur Florian Heinzen-Ziob (
 angefragt)\, Dr. Volker Stelzer (wissenschaftlicher Mitarbeiter am KIT/ITAS 
 u. Mitglied bei =E2=80=9EScientists for Future=E2=80=9C) und Aktive der Gru
 ppe =E2=80=9EPsychologists for Future=E2=80=9C. =20
URL:https://kalender.karlsruhe.de/db/termine/literatur/das_gewicht_der_welt_naturwissenschaften
CLASS:PUBLIC
DTSTART:20260527T190000
DTEND:20260527T210000
DTSTAMP:20260330T115644
CATEGORIES:Literatur, Vorträge
ATTACH:https://kalender.karlsruhe.de/db/termine/literatur/das_gewicht_der_welt_naturwissenschaften/file/icon_Das Gewicht der Welt.jpg
END:VEVENT

END:VCALENDAR
