BEGIN:VCALENDAR
VERSION:2.0
CALSCALE:GREGORIAN
PRODID:https://kalender.karlsruhe.de/db/termine/
METHOD:PUBLISH
BEGIN:VEVENT
UID:580482
ORGANIZER;CN=Stiftung Centre Culturel Franco-Allemand Karlsruhe:MAILTO:info@ccfa-ka.de
LOCATION:Stiftung Centre Culturel Franco-Allemand Karlsruhe.
SUMMARY:Das Phänomen des Gaslighting oder wie man Frauen zum Schweigen bringt
DESCRIPTION;ENCODING=QUOTED-PRINTABLE:Lesung und Autorinnengespr=C3=A4ch mit H=C3=A9l=C3=A8ne Frappat=0D=0A=0D=0A  Als Sc
 hriftstellerin\, =C3=9Cbersetzerin\, Philosophin und Filmkritikerin hat sich 
 H=C3=A9l=C3=A8ne Frappat einen Namen gemacht.    Sie ist Filmtheoretikerin 
 und Autorin der Romane     Trois femmes disparaissent    (2023) und     Ner
 ona    (2025) sowie des Essays     Le Gaslighting ou l=E2=80=99art de faire
  taire les femmes    (2023)\, in denen sie das Verschwinden von Frauen =E2
 =80=93 real\, symbolisch oder psychologisch =E2=80=93 anhand von Machtverh
 =C3=A4ltnissen\, Blicken und Manipulation untersucht. Hollywoods Star-System
  und Hitchcocks Umgang mit seinen weiblichen Schauspielerinnen dient ihr al
 s Vorlage.    In     Le Gaslighting ou l=E2=80=99art de faire taire les fem
 mes    erkl=C3=A4rt sie ein Schl=C3=BCsselkonzept des Feminismus\, das in Fr
 ankreich noch wenig bekannt ist. Inspiriert vom Film     Gaslight    (1944)
  von George Cukor beschreibt sie Gaslighting als heimt=C3=BCckische psychis
 che Gewalt\, die das Opfer an seinen Wahrnehmungen\, Erinnerungen und seiner 
 eigenen Vernunft zweifeln l=C3=A4sst. Eng mit Machtstrukturen verbunden\, of
 t geschlechtsspezifisch gepr=C3=A4gt\, wirkt Gaslighting als unsichtbare For
 m der Dominanz\, besonders effektiv\, weil sie ohne offensichtliche Gewalt au
 skommt.    Mit     Nerona    entf=C3=BChrt Frappat in die Gedankenwelt eine
 r italienischen F=C3=BChrungskraft\, die sich in einen dekadenten r=C3=B6mis
 chen Kaiser verwandelt\, und zeigt die perversen Mechanismen einer Sprache\, 
 die unsere Gesellschaft entmenschlicht. Gleichzeitig regt sie dazu an\, =C3
 =BCber politische Gewalt und demokratische Nachsicht nachzudenken.    Mit d
 ieser literarischen Begegnung l=C3=A4dt H=C3=A9l=C3=A8ne Frappat dazu ein\, 
 Macht\, Realit=C3=A4t und die Rolle der Frauen in unserer Gesellschaft neu z
 u hinterfragen.    George Cukor\, Gaslight\, 1944\, screenshot =C2=A9 Metro-Go
 ldwyn-Mayer =20
URL:https://kalender.karlsruhe.de/db/termine/literatur/das_phanomen_des_gaslighting_oder_wie
CLASS:PUBLIC
DTSTART:20260611T190000
DTEND:20260611T203000
DTSTAMP:20260330T115644
CATEGORIES:Literatur, Vorträge
ATTACH:https://kalender.karlsruhe.de/db/termine/literatur/das_phanomen_des_gaslighting_oder_wie/file/icon_Gaslight-George-Cukor-CC–Metro-Goldwyn-Mayer.jpg
END:VEVENT

END:VCALENDAR
