BEGIN:VCALENDAR
VERSION:2.0
CALSCALE:GREGORIAN
PRODID:https://kalender.karlsruhe.de/db/termine/
METHOD:PUBLISH
BEGIN:VEVENT
UID:580055
ORGANIZER;CN=vhs Karlsruhe:MAILTO:info@vhs-karlsruhe.de
LOCATION:vhs Karlsruhe
SUMMARY:Das Rätsel der Pyramiden
DESCRIPTION;ENCODING=QUOTED-PRINTABLE:Bau\, Funktion und Theorien=0D=0A=0D=0A  Sphynx (John Fiori von Pexels)    Die =C3
 =A4gyptischen Pyramiden geben bis heute viele R=C3=A4tsel auf\, die den Anst
 o=C3=9F zur Entwicklung verschiedener wissenschaftlicher Theorien\, aber auc
 h wildester Spekulationen gegeben haben. So ist bis heute nicht v=C3=B6llig
  gekl=C3=A4rt\, auf welche Weise die alten =C3=84gypter die gr=C3=B6=C3=9Fte
 n von ihnen\, die urspr=C3=BCnglich eine H=C3=B6he von bis zu 147 Meter erre
 icht hatten\, zu errichten vermocht haben.    Dr. Heinrich Pacher stellt ein
 e Reihe bekannter und weniger bekannter Pyramiden vor und bietet so einen A
 briss der Geschichte dieser faszinierenden Bauwerke. Des weiteren werden ve
 rschiedene Theorien zu Bau und Funktion der Pyramiden erl=C3=A4utert und di
 e Teilnehmer zur Diskussion eingeladen. In einem Exkurs werden Beispiele vo
 n Pyramiden aus anderen Regionen der Erde vorgestellt.    Dozent:=C2=A0Dr. 
 Heinrich Pacher\, Philosoph\, P=C3=A4dagoge\, Historiker\, Literaturwissenschaf
 tler =20
URL:https://kalender.karlsruhe.de/db/termine/literatur/das_ratsel_der_pyramiden
CLASS:PUBLIC
DTSTART:20260701T173000
DTEND:20260701T190000
DTSTAMP:20260324T094516
CATEGORIES:Literatur, Vorträge
ATTACH:https://kalender.karlsruhe.de/db/termine/literatur/das_ratsel_der_pyramiden/file/icon_Sphynx (John Fiori von Pexels).jpg
END:VEVENT

END:VCALENDAR
