BEGIN:VCALENDAR
VERSION:2.0
CALSCALE:GREGORIAN
PRODID:https://kalender.karlsruhe.de/db/termine/
METHOD:PUBLISH
BEGIN:VEVENT
UID:580894
ORGANIZER;CN=Bildungsinitiative "junge alte" der EEB Karlsruhe:MAILTO:annette.weiss@kbz.ekiba.de
LOCATION:Gemeindezentrum Durlach
SUMMARY:Der junge alte Poetry Slam
DESCRIPTION;ENCODING=QUOTED-PRINTABLE:Ein vielf=C3=A4ltiger Dichterwettstreit f=C3=BCr alle Generationen=0D=0A=0D=0A  Ber
 eits zum dritten Mal findet dieser Wettbewerb bei den "jungen alten" statt.
  J=C3=BCngere und =C3=A4ltere "Poetry Slammer" der "Landkulturschaffenden S
 =C3=BCdwest" tragen ihre Texte in einem kurzen\, wenige Minuten umfassenden 
 Zeitlimit vor\, das Publikum fungiert als Jury und k=C3=BCrt eine Siegerin o
 der einen Sieger.    Ob Gedichte oder Geschichten\, ernst oder heiter\, gespr
 ochen oder gerappt\, Fiktives oder Erlebtes - es ist alles m=C3=B6glich\, was
  sich mit Sprache machen l=C3=A4sst!    Vortr=C3=A4ge bei den "jungen alten
 " immer am Mittwoch und Donnerstag\, jeweils 10.00 bis 11.30 Uhr\, im Gemeind
 ezentrum Durlach\, am Zwinger 5\, und zeitgleich online unter www.jungealte.i
 nfo  =0D=0A =20
URL:https://kalender.karlsruhe.de/db/termine/literatur/der_junge_alte_poetry_slam
CLASS:PUBLIC
DTSTART:20260430T100000
DTEND:20260430T113000
DTSTAMP:20260415T095959
CATEGORIES:Literatur, Vorträge
ATTACH:https://kalender.karlsruhe.de/db/termine/literatur/der_junge_alte_poetry_slam/file/icon_EEB_Logo_junge_alte_grün_Briefkopf.jpg
END:VEVENT

END:VCALENDAR
