BEGIN:VCALENDAR
VERSION:2.0
CALSCALE:GREGORIAN
PRODID:https://kalender.karlsruhe.de/db/termine/
METHOD:PUBLISH
BEGIN:VEVENT
UID:578852
ORGANIZER;CN=Volksbund Deutsche Kriegsgräberfürsorge e.V.:MAILTO:bv-karlsruhe@volksbund.de
LOCATION:Online Veranstaltung
SUMMARY:„Die Enteignung der jüdischen Gewerbetreibenden in Bruchsal“
DESCRIPTION;ENCODING=QUOTED-PRINTABLE:Liquidierung und =E2=80=9EArisierung=E2=80=9C in Baden w=C3=A4hrend der NS-
 Zeit mit Blick auf das Gesamtsystem Onlinevortrag am Dienstag\, den 21. Apri
 l 2026 um 19.00 Uhr=0D=0A=0D=0A  "Seit dem 14. Jahrhundert gab es eine j=C3=BCdisch
 e Gemeinde in der Nordbadischen Kleinstadt Bruchsal. In Relation zur Gesamt
 einwohnerzahl befand sich dort am Vorabend des Ersten Weltkriegs eine der g
 r=C3=B6=C3=9Ften j=C3=BCdischen Landgemeinden des Deutschen Kaiserreichs. Z
 ahlreiche international bekannte Handelsfirmen hatten hier ihren Ursprung\, 
 manch eine lokale Textilgro=C3=9Fhandelsfirma war sogar auf Weltausstellung
 en in =C3=9Cbersee vertreten.  =0D=0A  Zu einem j=C3=A4hen Ende kam all dies w
 =C3=A4hrend der "unvergleichlichen Pl=C3=BCnderungswelle" (ORF) zur Zeit de
 s "Dritten Reichs". Ziel des Vortrags soll es sein\, die Akteure und Vorg=C3
 =A4nge w=C3=A4hrend der scheinlegalen Verdr=C3=A4ngung j=C3=BCdischer Gewer
 betreibender in Baden zu identifizieren. Ein weiterer Fokus liegt gerade au
 f den ungeschriebenen Dynamiken\, die sich konkret vor Ort und ohne Direktiv
 e aus Berlin oder Karlsruhe entluden.  =0D=0A  Dennoch sind die Befunde nicht n
 ur f=C3=BCr die Bruchsaler oder Badische Lokalgeschichte\, sondern f=C3=BCr 
 die Erforschung der Mechanismen und Funktionsweisen des Nationalsozialismus
  im Gesamten bedeutsam."    Jetzt zum Online=E2=80=91Vortrag anmelden    Th
 ema:=C2=A0Die Enteignung der j=C3=BCdischen Gewerbetreibenden in Bruchsal  
 =0D=0A  Referent:=C2=A0Michael Becker\, Historiker aus =C3=96stringen  =0D=0A  Datum
 :=C2=A0Dienstag\, den 21. April 2026  =0D=0A  Uhrzeit:=C2=A019:00 Uhr  =0D=0A  Ort:
 =C2=A0Online (Zugangslink nach Anmeldung)    Anmeldung bis sp=C3=A4testens 
 21. April 2026\, 12:00 Uhr per Mail an=C2=A0bv-karlsruhe@volksbund.de. Nach 
 Ihrer Anmeldung erhalten Sie den Zugangslink zum Vortrag. =20
URL:https://kalender.karlsruhe.de/db/termine/literatur/die_enteignung_der_judischen_gewerbetreibenden-1
CLASS:PUBLIC
DTSTART:20260422T190000
DTEND:20260422T200000
DTSTAMP:20260210T114509
CATEGORIES:Literatur, Vorträge
ATTACH:https://kalender.karlsruhe.de/db/termine/literatur/die_enteignung_der_judischen_gewerbetreibenden-1/file/icon_Pfefferjuede.jpg
END:VEVENT

END:VCALENDAR
