BEGIN:VCALENDAR
VERSION:2.0
CALSCALE:GREGORIAN
PRODID:https://kalender.karlsruhe.de/db/termine/
METHOD:PUBLISH
BEGIN:VEVENT
UID:578611
ORGANIZER;CN=Die Orgelfabrik - Kultur in Durlach e.V., Amthausstraße 17-19, 76227 Karlsruhe:MAILTO:
LOCATION:OrgelFabrikSalon, Amthausstraße 17, Seitengebäude 1. OG, 76227 Karlsruhe (Durlach)
SUMMARY:"Die Erzählungen der Zimmer..."
DESCRIPTION;ENCODING=QUOTED-PRINTABLE:Miniaturen aus dem Buch =E2=80=9EDie Erz=C3=A4hlungen der Zimmer=E2=80=9C  
  Texte und Gedichte vom Unterwegssein von Paul Blau\,  Musik von und mit Hel
 ga Betsarkis (Akkordeon)=0D=0A=0D=0A  Auf Reisen =C3=BCbernachten wir oftmals in Ho
 telzimmern. Diese R=C3=A4ume bilden die Reise ab\, oder sie sind eine Welt f
 =C3=BCr sich und werden zu Orten von Erlebnissen\, die uns in der selbstgew
 =C3=A4hlten Ferne beeinflussen. Auch projizieren wir uns selber manchmal in
  diese tempor=C3=A4ren R=C3=A4ume hinein mit unseren Erwartungen und=C2=A0 
 Begegnungen. So entsteht ein eigener Mikrokosmos\, zu dessen Hauptfigur wir 
 werden. Manchmal wechseln wir in die Rolle des Beobachters\, der literarisch
  das bearbeitet\, was auf ihn einstr=C3=B6mt.  =0D=0A  Paul Blau hat sich immer 
 wieder mit solchen Orten besch=C3=A4ftigt\, - und sie haben ihre Wirkung ent
 faltet und ihn zu Texten inspiriert. So werden an diesem Abend Miniaturen a
 us dem Buch     =E2=80=9EDie Erz=C3=A4hlungen der Zimmer=E2=80=9C    zu h
 =C3=B6ren sein\, sowie andere Werke\, die sich mit dem Unterwegs-Sein besch
 =C3=A4ftigen.  =0D=0A  Zwischen den Texten spielt Helga Betsarkis einf=C3=BChls
 ame Musik auf ihrem Akkordeon und bebildert damit die Lesung auf ihre ganz 
 eigene Weise.  =0D=0A      Weitere Informationen    =0D=0A  www.paulblau.org  =0D=0A  w
 ww.handwerkerei-sarkis.de/musik    =0D=0A =20
URL:https://kalender.karlsruhe.de/db/termine/literatur/die_erzahlungen_der_zimmer
CLASS:PUBLIC
DTSTART:20261217T193000
DTEND:20261217T210000
DTSTAMP:20260210T114429
CATEGORIES:Literatur, Vorträge
ATTACH:https://kalender.karlsruhe.de/db/termine/literatur/die_erzahlungen_der_zimmer/file/icon_Literatur & Musik Farbe - X.jpg
END:VEVENT

END:VCALENDAR
