BEGIN:VCALENDAR
VERSION:2.0
CALSCALE:GREGORIAN
PRODID:https://kalender.karlsruhe.de/db/termine/
METHOD:PUBLISH
BEGIN:VEVENT
UID:580953
ORGANIZER;CN=nph Kinderhilfe Lateinamerika e. V.:MAILTO:anmeldung@nph-kinderhilfe.org
LOCATION:Begegnungsstätte Grötzingen
SUMMARY:Digitaler Nachlass & Testamentsgestaltung
DESCRIPTION;ENCODING=QUOTED-PRINTABLE:Kostenfreier Vortrag mit Fachanwalt=0D=0A=0D=0A  Digitaler Nachlass - was bedeutet 
 das? Und was hat das mit dem Verfassen eines Testamentes zu tun? Wenn Sie d
 arauf Antworten suchen\, sind Sie bei unserem Vortrag =E2=80=9EDigitaler Nac
 hlass und Testamentsgestaltung=E2=80=9C richtig:       6. Mai 2026\, 16.00- 
 17.30 Uhr\, Begegnungszentrum Gr=C3=B6tzingen       Unser Referent\, Fachanwa
 lt Giuseppe Pranzo\, wird in verst=C3=A4ndlicher Sprache zu den wichtigsten 
 Aspekten informieren und Fragen beantworten. Der Vortrag ist kostenfrei. Wi
 r bitten aus Platzgr=C3=BCnden jedoch um rechtzeitige Anmeldung bis 27. Apr
 il 2026. =20
URL:https://kalender.karlsruhe.de/db/termine/literatur/digitaler_nachlass_testamentsgestaltung
CLASS:PUBLIC
DTSTART:20260506T160000
DTEND:20260506T173000
DTSTAMP:20260417T091331
CATEGORIES:Literatur, Vorträge
ATTACH:https://kalender.karlsruhe.de/db/termine/literatur/digitaler_nachlass_testamentsgestaltung/file/icon_nph_logo_wortbildmarke_web.jpg
END:VEVENT

END:VCALENDAR
