BEGIN:VCALENDAR
VERSION:2.0
CALSCALE:GREGORIAN
PRODID:https://kalender.karlsruhe.de/db/termine/
METHOD:PUBLISH
BEGIN:VEVENT
UID:576597
ORGANIZER;CN=Badische Landesbibliothek:MAILTO:service@blb-karlsruhe.de
LOCATION:Badische Landesbibliothek
SUMMARY:Eine Freundschaft am Rande der Warschauer Ghettomauer und eine Flucht
DESCRIPTION;ENCODING=QUOTED-PRINTABLE:Mattes Herre\, Sebastian Mirow und Stefan Viering lesen aus dem von Jutta Be
 rendes bearbeiteten Roman =E2=80=9EDie sch=C3=B6ne Frau Seidenman=E2=80=9C 
 von Andrzej Szczypiorski (1928=E2=80=932000)\, musikalisch begleitet von Uli
  Kofler am Fl=C3=BCgel.=0D=0A=0D=0A  Pawelek\, der aus einer katholischen Offiziersf
 amilie stammt\, und Hensio\, Sohn eines j=C3=BCdischen Anwalts\, sind dicke Fr
 eunde. Als 1939 die deutsche Wehrmacht Polen =C3=BCberf=C3=A4llt\, =C3=A4nde
 rt sich das Leben der beiden Halbw=C3=BCchsigen schlagartig: Hensios Famili
 e muss ins Warschauer Ghetto umziehen. Unterst=C3=BCtzt von seinem treuen F
 reund Pawelek flieht Hensio und lebt das Leben eines Gejagten\, bis er schli
 e=C3=9Flich einen schwerwiegenden Entschluss fasst =E2=80=A6    Eine Verans
 taltung in Kooperation mit der Gesellschaft f=C3=BCr Christlich-J=C3=BCdisc
 he Zusammenarbeit e. V. im Rahmen der Woche f=C3=BCr Christlich-J=C3=BCdisc
 he Zusammenarbeit.    Veranstaltungsort: Vortragssaal =20
URL:https://kalender.karlsruhe.de/db/termine/literatur/eine_freundschaft_am_rande_der_warschauer
CLASS:PUBLIC
DTSTART:20260310T190000
DTEND:
DTSTAMP:20260121T091315
CATEGORIES:Literatur, Vorträge
ATTACH:https://kalender.karlsruhe.de/db/termine/literatur/eine_freundschaft_am_rande_der_warschauer/file/icon_DSC_3149.jpg
END:VEVENT

END:VCALENDAR
