BEGIN:VCALENDAR
VERSION:2.0
CALSCALE:GREGORIAN
PRODID:https://kalender.karlsruhe.de/db/termine/
METHOD:PUBLISH
BEGIN:VEVENT
UID:580981
ORGANIZER;CN=Karlsruher Energie- und Klimaschutzagentur:MAILTO:info@kek-karlsruhe.de
LOCATION:Online Veranstaltung
SUMMARY:Energetische Sanierung – Fit für die Zukunft!
DESCRIPTION;ENCODING=QUOTED-PRINTABLE:Im Online-Vortrag zeigen wir Ihnen\, wie Sie Ihre Immobilie fit f=C3=BCr die
  Zukunft machen und was bei der energetischen Sanierung zu beachten ist.=0D=0A$
 $  Die Energiepreise steigen\, der CO=E2=82=82-Preis verteuert fossile  Bren
 nstoffe und neue gesetzliche Vorgaben fordern Hauseigent=C3=BCmerinnen  und
  Hauseigent=C3=BCmer zum Handeln auf. Doch im Wandel steckt auch eine  gro
 =C3=9Fe Chance: Senken Sie dauerhaft Ihre Energiekosten\, steigern Sie den  
    Wert Ihrer Immobilie    und machen Sie sich     unabh=C3=A4ngig von =C3
 =96l und Gas    !    Aber wie gelingt eine energetische Sanierung? Ist eine
      W=C3=A4rmepumpe    f=C3=BCr  Ihr Geb=C3=A4ude geeignet und welche klim
 afreundlichen Alternativen gibt es?  Was verlangt die aktuelle Gesetzeslage
  und welche     F=C3=B6rderprogramme    k=C3=B6nnen Sie nutzen?    Thabo vo
 n Roman\, Leitung Energieberatung bei Zukunft Altbau\, gibt in  seinem Vortra
 g Antworten auf all diese Fragen. Verst=C3=A4ndlich\, praxisnah  und unabh
 =C3=A4ngig zeigt er\, worauf es bei einer erfolgreichen Sanierung  ankommt u
 nd wie Sie Ihr Geb=C3=A4ude fit f=C3=BCr die Zukunft machen.  =0D=0A  =0D=0A  =C2
 =A9 KEK =20
URL:https://kalender.karlsruhe.de/db/termine/literatur/energetische_sanierung_fit_fur_die_zukunft
CLASS:PUBLIC
DTSTART:20260519T170000
DTEND:20260519T180000
DTSTAMP:20260417T091141
CATEGORIES:Literatur, Vorträge
ATTACH:https://kalender.karlsruhe.de/db/termine/literatur/energetische_sanierung_fit_fur_die_zukunft/file/icon_copyright-KEK-Bild-Sanierung.jpg
END:VEVENT

END:VCALENDAR
