BEGIN:VCALENDAR
VERSION:2.0
CALSCALE:GREGORIAN
PRODID:https://kalender.karlsruhe.de/db/termine/
METHOD:PUBLISH
BEGIN:VEVENT
UID:579864
ORGANIZER;CN=Karlsruher Energie- und Klimaschutzagentur:MAILTO:info@kek-karlsruhe.de
LOCATION:Startpunkt Elterncafé
SUMMARY:Energiesparen leicht gemacht
DESCRIPTION;ENCODING=QUOTED-PRINTABLE:Die KEK zeigt im Mehrgenerationenhaus Karlsruhe\, wie einfach Energiesparen 
 im Alltag sein kann.=0D=0A=0D=0A  Energieberaterinnen und -berater der KEK geben pr
 aktische Tipps f=C3=BCr  Zuhause\, mit denen Sie sofort starten k=C3=B6nnen.
  Au=C3=9Ferdem stellen sie den  Stromspar-Check vor: ein kostenloses Angebo
 t f=C3=BCr Menschen mit geringem  Einkommen\, bei dem der Strom- und W=C3=A4
 rmeverbrauch genau unter die Lupe  genommen wird. Die Beratung bringt nicht
  nur Entlastung f=C3=BCr den  Geldbeutel\, sondern leistet auch einen wertvo
 llen Beitrag zum  Klimaschutz.    Kommen Sie vorbei\, lassen Sie sich inspir
 ieren und entdecken Sie\, wie  kleine Ver=C3=A4nderungen gro=C3=9Fe Wirkung 
 haben. Wir freuen uns auf Ihren  Besuch!    Diese Veranstaltung findet im R
 ahmen der Aktionswoche =E2=80=9EKEK on tour in Neureut=E2=80=9C statt.    $
 $    =0D=0A =20
URL:https://kalender.karlsruhe.de/db/termine/literatur/energiesparen_leicht_gemacht
CLASS:PUBLIC
DTSTART:20260427T140000
DTEND:20260427T160000
DTSTAMP:20260407T112003
CATEGORIES:Literatur, Vorträge
ATTACH:https://kalender.karlsruhe.de/db/termine/literatur/energiesparen_leicht_gemacht/file/icon_energiesparen-leicht-gemacht.jpg
END:VEVENT

END:VCALENDAR
