BEGIN:VCALENDAR
VERSION:2.0
CALSCALE:GREGORIAN
PRODID:https://kalender.karlsruhe.de/db/termine/
METHOD:PUBLISH
BEGIN:VEVENT
UID:579219
ORGANIZER;CN=Stadtteilkoordination und Seniorenbüro Stadt Karlsruhe:MAILTO:seniorenbuero@sjb.karlsruhe.de
LOCATION:Online Veranstaltung
SUMMARY:Erbrecht – Testament und Erbvertrag
DESCRIPTION;ENCODING=QUOTED-PRINTABLE:Stadtteilkoordination und Seniorenb=C3=BCro OnAir und die vhs Karlsruhe=0D=0A=0D=0A
   Die gesetzliche Erbfolgte spiegelt die eigenen Vorstellungen vom  Verm=C3
 =B6gensfluss nach dem Tod nur selten wider. Umso wichtiger ist es\,  seine W
 =C3=BCnsche durch passgenaue Gestaltung selbstbestimmt abzubilden.  Hier he
 lfen Testament und Erbvertrag\, um gezielt und rechtzeitig  Einfluss auf die
  eigene Nachfolge zu nehmen. Durch unmissverst=C3=A4ndliche  und klare Anor
 dnungen kann so Streit unter k=C3=BCnftigen Erben bestenfalls  vermieden we
 rden.  =0D=0A  Nach einem kurzen =C3=9Cberblick =C3=BCber die gesetzliche  Erbf
 olge wird der Vortrag die Gestaltungsm=C3=B6glichkeiten des Erbrechts  (Erb
 einsetzung\, Verm=C3=A4chtnisanordnung\, Testamentsvollstreckung etc.)  aufze
 igen und f=C3=BCr =E2=80=9EStolpersteine=E2=80=9C sensibilisieren.    Refer
 entin:     Dr. Stephanie Funk    \,=C2=A0Rechtsanw=C3=A4ltin\, Fachanw=C3=A4l
 tin f=C3=BCr Erbrecht      Online mit Edudip    =0D=0A  Den Link zur Anmeldung 
 finden Sie auf unserer Homepage     karlsruhe.de/senioren    unter     Aktu
 elles -> Seniorenb=C3=BCro ON AIR.      Zu dem kostenlosen Vortrag     k=C3
 =B6nnen sich alle Interessierten anmelden. =20
URL:https://kalender.karlsruhe.de/db/termine/literatur/erbrecht_testament_und_erbvertrag
CLASS:PUBLIC
DTSTART:20260506T180000
DTEND:20260506T190000
DTSTAMP:20260318T093922
CATEGORIES:Literatur, Vorträge
ATTACH:https://kalender.karlsruhe.de/db/termine/literatur/erbrecht_testament_und_erbvertrag/file/icon_ON-AIR-mit-Schrift-Kalender_StaKo_SenBue.jpg
END:VEVENT

END:VCALENDAR
