BEGIN:VCALENDAR
VERSION:2.0
CALSCALE:GREGORIAN
PRODID:https://kalender.karlsruhe.de/db/termine/
METHOD:PUBLISH
BEGIN:VEVENT
UID:579257
ORGANIZER;CN=Stiftung Centre Culturel Franco-Allemand Karlsruhe:MAILTO:info@ccfa-ka.de
LOCATION:KOHI Kulturraum e.V.
SUMMARY:Fatima Daas: Die jüngste Tochter und Spiel das Spiel
DESCRIPTION;ENCODING=QUOTED-PRINTABLE:Lesung und Autorinnengespr=C3=A4ch mit Fatima Daas=0D=0A=0D=0A  Fatima Daas ist zum
  ersten Mal in Karlsruhe zu Gast f=C3=BCr eine literarische Begegnung\, die 
 ins Deutsche =C3=BCbersetzt wird.    Fatima Daas\, 1995 in Frankreich als j
 =C3=BCngstes Kind algerischer Eltern  geboren\, z=C3=A4hlt zu den markantest
 en Stimmen der zeitgen=C3=B6ssischen  franz=C3=B6sischen Literatur. In ihre
 m Deb=C3=BCtroman     Die j=C3=BCngste Tochter    (Ullstein Buchverlage\; Or
 iginaltitel:     La petite derni=C3=A8re    \,  =C3=89ditions Noir sur Blanc
 \, 2020) setzt sie sich mit ihrer Herkunft\,  muslimischen Glauben und Homose
 xualit=C3=A4t auseinander. Der Roman wurde  international gefeiert\, in zahl
 reiche Sprachen =C3=BCbersetzt und die  deutsche Ausgabe 2021 mit dem Inter
 nationalen Literaturpreis  ausgezeichnet. Die Verfilmung der Regisseurin Ha
 fsia Herzi feierte 2025  ihre Premiere in Cannes und war im Herbst 2025 in 
 deutschen Kinos zu  sehen.    In ihrem zweiten Roman     Jouer le jeu    (
 =C3=89ditions de  l=E2=80=99Olivier\, 2025)\, erschienen zur rentr=C3=A9e lit
 t=C3=A9raire\, erz=C3=A4hlt Daas von  Freund*innenschaften\, Solidarit=C3=A4t
  und Rassismus sowie von der sozial  stigmatisierenden Banlieue. Die deutsc
 he =C3=9Cbersetzung ist ab Februar 2026  erh=C3=A4ltlich.    Aur=C3=A9lien 
 Jauch wird die deutsche =C3=9Cbersetzung f=C3=BCr den Abend =C3=BCbernehmen
 .    =C2=A9 Ullstein Buchverlage =20
URL:https://kalender.karlsruhe.de/db/termine/literatur/fatima_daas_die_jungste_tochter_und_spiel_das_spiel
CLASS:PUBLIC
DTSTART:20260421T200000
DTEND:20260421T213000
DTSTAMP:20260223T081003
CATEGORIES:Literatur, Vorträge
ATTACH:https://kalender.karlsruhe.de/db/termine/literatur/fatima_daas_die_jungste_tochter_und_spiel_das_spiel/file/icon_Cc  Ullstein Buchverlage (2).jpg
END:VEVENT

END:VCALENDAR
