BEGIN:VCALENDAR
VERSION:2.0
CALSCALE:GREGORIAN
PRODID:https://kalender.karlsruhe.de/db/termine/
METHOD:PUBLISH
BEGIN:VEVENT
UID:576388
ORGANIZER;CN=Badische Landesbibliothek:MAILTO:service@blb-karlsruhe.de
LOCATION:Badische Landesbibliothek
SUMMARY:Fernweh schreiben – Geschichten zwischen Aufbruch und Ankunft erschaffen
DESCRIPTION;ENCODING=QUOTED-PRINTABLE:In Kooperation mit Julius Link und der Kreativschreibgruppe KITeratur=0D=0A=0D=0A  
 Reisen =C3=B6ffnet den Blick =E2=80=93 nicht nur auf neue Orte\, sondern auc
 h auf die Menschen selbst.=C2=A0Inspiriert von der Ausstellung =E2=80=9ETr
 =C3=A4ume\, Wunder\, Abenteuer =E2=80=93 Sehnsuchtsorte in der Reiseliteratur
 =E2=80=9C schreiben Sie eigene Texte =C3=BCber Aufbruch und Ankunft. Wir la
 ssen aus Erinnerungen\, Eindr=C3=BCcken und Fantasie neue Geschichten entste
 hen. Vorkenntnisse sind nicht n=C3=B6tig.    KITeratur wurde 2016 als Hochs
 chulgruppe gegr=C3=BCndet und befasst sich heute als freie Kreativschreibgr
 uppe mit Methoden aus dem =E2=80=9ECreative Writing=E2=80=9C. Julius Link i
 st Werbetexter\, Autor und Moderator der Gruppe. Ihr gemeinsames Motto: Haup
 tsache ist der Spa=C3=9F am Schreiben. Alle vier Wochen gibt es neue Schrei
 bimpulse und =C3=9Cbungen\, die z. B. auch im Studium helfen k=C3=B6nnen.   
  Mehr Informationen unter: www.kiteratur.com    Veranstaltungsort: Seminarr
 aum in der Lernwerkstatt =20
URL:https://kalender.karlsruhe.de/db/termine/literatur/fernweh_schreiben_geschichten_zwischen
CLASS:PUBLIC
DTSTART:20260328T140000
DTEND:20260328T160000
DTSTAMP:20251124T100428
CATEGORIES:Literatur, Vorträge
ATTACH:https://kalender.karlsruhe.de/db/termine/literatur/fernweh_schreiben_geschichten_zwischen/file/icon_Key Visual Lernwerkstatt.jpg
END:VEVENT

END:VCALENDAR
