BEGIN:VCALENDAR
VERSION:2.0
CALSCALE:GREGORIAN
PRODID:https://kalender.karlsruhe.de/db/termine/
METHOD:PUBLISH
BEGIN:VEVENT
UID:579883
ORGANIZER;CN=Stiftung Forum Recht, Karlsruhe:MAILTO:
LOCATION:Stiftung Forum Recht
SUMMARY:Forum Recht im Dialog.
DESCRIPTION;ENCODING=QUOTED-PRINTABLE:Impulse mit Cord Br=C3=BCgmann=0D=0A=0D=0A  Zum Feierabend l=C3=A4dt die Stiftung F
 orum Recht in ihre R=C3=A4umlichkeiten in Karlsruhe zu einem abendlichen Au
 stausch ein. Zu Gast sind pannende Pers=C3=B6nlichkeiten aus Rechtsbereiche
 n\, aus Kultureinrichtungen und dem Bildungsbereich. In einem kurzen Impuls 
 beleuchten sie im Austausch mit Direktor Dr. Cord Br=C3=BCgmann jeweils ein
  Thema\, das im Zusammenhang mit der Arbeit der Stiftung Forum Recht steht: 
 Von aktuellen Fragen des Rechts und des Rechtsstaats =C3=BCber Zukunftsthem
 en bis hin zu Entwicklungen in der Stiftung Forum Recht. =20
URL:https://kalender.karlsruhe.de/db/termine/literatur/forum_recht_im_dialog-2
CLASS:PUBLIC
DTSTART:20260429T173000
DTEND:20260429T190000
DTSTAMP:20260313T105435
CATEGORIES:Literatur, Vorträge
ATTACH:https://kalender.karlsruhe.de/db/termine/literatur/forum_recht_im_dialog-2/file/icon_Nachgefragt_LE_18_09_25.jpg
END:VEVENT

END:VCALENDAR
