BEGIN:VCALENDAR
VERSION:2.0
CALSCALE:GREGORIAN
PRODID:https://kalender.karlsruhe.de/db/termine/
METHOD:PUBLISH
BEGIN:VEVENT
UID:580645
ORGANIZER;CN=Stadtbibliothek Karlsruhe - Stadtteilbibliothek Grötzingen:MAILTO:bibliothek-groetzingen@kultur.karlsruhe.de
LOCATION:Stadtbibliothek karlsruhe - Stadtteilbibliothek Grötzingen - Aktionswoche
SUMMARY:Fußball Quiz
DESCRIPTION;ENCODING=QUOTED-PRINTABLE:Ab 8 Jahren | Im Rahmen der Fu=C3=9Fball Weltmeisterschaft der M=C3=A4nner$
 =0D=0A$  Teste spielerisch dein Wissen rund um den beliebtesten Sport der Welt!
     Immer w=C3=A4hrend der =C3=96ffnungszeiten. Frag einfach an der Infothe
 ke nach.    =0D=0A      Zielgruppe:    ab 8 Jahren     =0D=0A   =0D=0A   Anmeldung:    
 ohne     =0D=0A   =0D=0A   Eintritt:    kostenfrei  =0D=0A     =0D=0A     Ort:    Stadtteil
 bibliothek Gr=C3=B6tzingen\, Infotheke EG        =0D=0A            =0D=0A        Fot
 o: AdobeStock - steevy84     =20
URL:https://kalender.karlsruhe.de/db/termine/literatur/fuball_quiz-1
CLASS:PUBLIC
DTSTART:20260615T140000
DTEND:20260703T170000
DTSTAMP:20260401T090810
CATEGORIES:Literatur, Vorträge
ATTACH:https://kalender.karlsruhe.de/db/termine/literatur/fuball_quiz-1/file/icon_2026.06.26_dobeStock_steevy84.jpg
END:VEVENT

END:VCALENDAR
