BEGIN:VCALENDAR
VERSION:2.0
CALSCALE:GREGORIAN
PRODID:https://kalender.karlsruhe.de/db/termine/
METHOD:PUBLISH
BEGIN:VEVENT
UID:580618
ORGANIZER;CN=Stadtbibliothek Karlsruhe - Kinder- und Jugendbibliothek im Prinz-Max-Palais:MAILTO:jugendbibliothek@kultur.karlsruhe.de
LOCATION:Stadtbibliothek karlsruhe - Kinder- und Jugendbibliothek im Prinz-Max-Palais - Aktionswoche
SUMMARY:Fußball Quiz
DESCRIPTION;ENCODING=QUOTED-PRINTABLE:Ab 8 Jahren | Im Rahmen der Fu=C3=9Fball Weltmeisterschaft der M=C3=A4nner$
 =0D=0A$  Teste spielerisch dein Wissen rund um den beliebtesten Sport der Welt!
     =0D=0A      Zielgruppe:    ab 8 Jahren     =0D=0A   =0D=0A   Anmeldung:    jugendbi
 bliothek@kultur.karlsruhe.de     =0D=0A   =0D=0A   Eintritt:    kostenfrei  =0D=0A     
 =0D=0A     Ort:    Kinder- und Jugendbibliothek        =0D=0A            =0D=0A        
 Foto: AdobeStock - steevy84     =20
URL:https://kalender.karlsruhe.de/db/termine/literatur/fuball_quiz
CLASS:PUBLIC
DTSTART:20260626T160000
DTEND:20260626T170000
DTSTAMP:20260331T102233
CATEGORIES:Literatur, Vorträge
ATTACH:https://kalender.karlsruhe.de/db/termine/literatur/fuball_quiz/file/icon_2026.06.26_dobeStock_steevy84.jpg
END:VEVENT

END:VCALENDAR
