BEGIN:VCALENDAR
VERSION:2.0
CALSCALE:GREGORIAN
PRODID:https://kalender.karlsruhe.de/db/termine/
METHOD:PUBLISH
BEGIN:VEVENT
UID:580574
ORGANIZER;CN=Stadtbibliothek Karlsruhe - Kinder- und Jugendbibliothek im Prinz-Max-Palais:MAILTO:jugendbibliothek@kultur.karlsruhe.de
LOCATION:Stadtbibliothek Karlsruhe - Kinder- und Jugendbibliothek Karlsruhe im Prinz-Max-Palais
SUMMARY:GameLab
DESCRIPTION;ENCODING=QUOTED-PRINTABLE:ab 10 Jahren | kostenfrei\, mit Anmeldung=0D=0A=0D=0A  Zocken\, w=C3=BCrfeln\, neue Fr
 eunde finden =E2=80=93 beim GameLab ist alles dabei! Ob Konsole oder Bretts
 piel: Komm vorbei\, spiel mit und triff andere\, die genauso drauf sind wie d
 u. Wir freuen uns auf dich!    =0D=0A      Zielgruppe:    ab 10 Jahren     =0D=0A  
  =0D=0A   Anmeldung:    jugendbibliothek@kultur.karlsruhe.de     =0D=0A   =0D=0A   Eint
 ritt:    kostenfrei     =0D=0A   =0D=0A   Ort:    Kinder- und Jugendbibliothek\, U-B
 oot       =0D=0A      Foto: AdobeStock -=C2=A0MarySan   =20
URL:https://kalender.karlsruhe.de/db/termine/literatur/gamelab
CLASS:PUBLIC
DTSTART:20260519T150000
DTEND:20260519T170000
DTSTAMP:20260327T133703
CATEGORIES:Literatur, Vorträge
ATTACH:https://kalender.karlsruhe.de/db/termine/literatur/gamelab/file/icon_2026.05.19_AdobeStock_marysan.jpg
END:VEVENT

END:VCALENDAR
