BEGIN:VCALENDAR
VERSION:2.0
CALSCALE:GREGORIAN
PRODID:https://kalender.karlsruhe.de/db/termine/
METHOD:PUBLISH
BEGIN:VEVENT
UID:580613
ORGANIZER;CN=Stadtbibliothek Karlsruhe - Kinder- und Jugendbibliothek im Prinz-Max-Palais:MAILTO:jugendbibliothek@kultur.karlsruhe.de
LOCATION:Stadtbibliothek Karlsruhe - Kinder- und Jugendbibliothek Karlsruhe im Prinz-Max-Palais
SUMMARY:Gratis Comic Tag
DESCRIPTION;ENCODING=QUOTED-PRINTABLE:Ob lustig\, aufregend oder fantastisch =E2=80=93 f=C3=BCr jedes Alter ist et
 was dabei.=0D=0A=0D=0A  Der Gratis Comic Tag ist ein besonderer Tag f=C3=BCr alle\, 
 die Comics lieben =E2=80=93 und f=C3=BCr alle\, die sie vielleicht erst noch
  entdecken wollen!  =0D=0A  Einmal im Jahr verschenken Buchhandlungen\, Comicl
 =C3=A4den und Bibliotheken in Deutschland\, =C3=96sterreich und der Schweiz 
 viele tolle Comics komplett kostenlos.  =0D=0A  =0D=0A  Ziel ist es\, Lesespa=C3=9F 
 zu wecken und Kinder\, Jugendliche und Erwachsene f=C3=BCr die bunte Welt de
 r Comics zu begeistern. An diesem Tag kannst du einfach vorbeikommen\, dir C
 omics aussuchen und mit nach Hause nehmen =E2=80=93 ganz umsonst! Ob lustig
 \, aufregend oder fantastisch =E2=80=93 f=C3=BCr jedes Alter ist etwas dabei
 .  =0D=0A  =0D=0A    Weitere Informationen: https://gratiscomictag.de/  =0D=0A  =0D=0A     
 Ort:    Kinder- und Jugendbibliothek        =0D=0A            =0D=0A        Illustr
 ation: https://gratiscomictag.de/     =20
URL:https://kalender.karlsruhe.de/db/termine/literatur/gratis_comic_tag
CLASS:PUBLIC
DTSTART:20260509T100000
DTEND:20260509T140000
DTSTAMP:20260331T090741
CATEGORIES:Literatur, Vorträge
ATTACH:https://kalender.karlsruhe.de/db/termine/literatur/gratis_comic_tag/file/icon_Bildschirmfoto_19-3-2026_233432_gratiscomictag.de_-777x437.jpg
END:VEVENT

END:VCALENDAR
