BEGIN:VCALENDAR
VERSION:2.0
CALSCALE:GREGORIAN
PRODID:https://kalender.karlsruhe.de/db/termine/
METHOD:PUBLISH
BEGIN:VEVENT
UID:578116
ORGANIZER;CN=Stephanus Buchhandlung & NUN Kulturraum e.V.:MAILTO:simon@nun.cafe
LOCATION:Café NUN
SUMMARY:Hannah Häffner liest aus die Riesinnen
DESCRIPTION;ENCODING=QUOTED-PRINTABLE:Wir haben endlich mal wieder eine sch=C3=B6ne Lesung im Programm. Zusammen 
 mit der Stephanus Buchhandlung laden wir euch ganz herzlich ein:=0D=0A=0D=0A    Han
 nah H=C3=A4ffner    liest aus:     Die Riesinnen        WANN DENN NUN?    $
 $  Donnerstag\, 7. Mai 2026 20:00 Uhr (Einlass ab 19:00 Uhr)      WO DENN NU
 N?    =0D=0A  Caf=C3=A9 NUN\, Gottesauer Stra=C3=9Fe 35\, Karlsruhe    Tickets: 1
 4\,00 =E2=82=AC | Tickets gibt es bei der Stephanus Buchhandlung  =0D=0A  Weiter
 e Infos: Stephanus Buchhandlung    Wittenmoos\, ein kleines Dorf im Schwarzw
 ald\, ist die Heimat dreier Frauen. Gro=C3=9F und d=C3=BCnn =C3=BCberragen s
 ie alle anderen und wollen so gar nicht in die Dorfgemeinschaft passen. Und
  doch sind sie hier verwurzelt und m=C3=BCssen ihren eigenen Weg in den eng
 en Grenzen des Dorfes finden. Liese\, die still und unerbittlich die Metzger
 ei f=C3=BChrt. Cora\, ihre Tochter\, die W=C3=BCtende\, die ausbrechen wird un
 d lernen muss\, dass Heimkehr keine Niederlage ist. Und Eva\, Coras Tochter\, 
 die den Wald so sehr liebt und sich dessen erst bewusst werden muss.    In 
 dunkler\, satter\, aber auch zarter Poesie erz=C3=A4hlt Hannah H=C3=A4ffner m
 it stilistischer Pr=C3=A4zision\, feinem Humor und einer subtilen Beobachtun
 gsgabe die Geschichte dreier Frauen\, die sich von den 60-er Jahren bis in u
 nsere Zeit spannt. Ein lange nachhallender Roman =C3=BCber die Sehnsucht na
 ch Freiheit und Wurzeln\, =C3=BCber M=C3=BCtter und T=C3=B6chter und =C3=BCb
 er die Kraft der Natur.      Hannah H=C3=A4ffner    wurde 1985 in Heidelber
 g geboren. Nach ihrem Studium der Politikwissenschaften begann sie als Werb
 etexterin und Autorin zu arbeiten. Heute lebt sie mit ihrere Familie in der
  N=C3=A4he von Stuttgart    =0D=0A =20
URL:https://kalender.karlsruhe.de/db/termine/literatur/hannah_haffner_liest_aus_die_riesinnen
CLASS:PUBLIC
DTSTART:20260507T200000
DTEND:20260507T230000
DTSTAMP:20260121T091526
CATEGORIES:Literatur, Vorträge
ATTACH:https://kalender.karlsruhe.de/db/termine/literatur/hannah_haffner_liest_aus_die_riesinnen/file/icon_2026-05-07 Hannah Häffner.jpg
END:VEVENT

END:VCALENDAR
