BEGIN:VCALENDAR
VERSION:2.0
CALSCALE:GREGORIAN
PRODID:https://kalender.karlsruhe.de/db/termine/
METHOD:PUBLISH
BEGIN:VEVENT
UID:574794
ORGANIZER;CN=Stadtbibliothek Karlsruhe - Stadtbibliothek im Neuen Ständehaus:MAILTO:stadtbibliothek@kultur.karlsruhe.de
LOCATION:Stadtbibliothek Karlsruhe - Stadtbibliothek im Neuen Ständehaus - Aktionswoche
SUMMARY:HORRORWOCHE: Grauen zwischen Buchdeckeln – Lesung und Gespräch mit Stefanie Lasthaus
DESCRIPTION;ENCODING=QUOTED-PRINTABLE:Kostenfrei\, ohne Anmeldung=0D=0A=0D=0A  Horrorliteratur boomt weltweit =E2=80=93 ob
  in den USA\, Gro=C3=9Fbritannien oder Japan =E2=80=93\, doch in Deutschland 
 bleibt das Genre oft unter dem Radar. Dabei ist Horror in anderen Medien l
 =C3=A4ngst etabliert: Filme\, Serien und Videospiele greifen d=C3=BCstere Th
 emen auf\, faszinieren Millionen und pr=C3=A4gen die gesamte Popkultur.    A
 m Donnerstag\, 30. Oktober gehen Autorin Stefanie Lasthaus und Moderator Bj
 =C3=B6rn Springorum dem Genre auf den Grund. Neben einer Lesung aus Lasthau
 s' Horror-Romanen\, die klassische M=C3=A4rchen auf d=C3=BCstere und verst
 =C3=B6rende Weise neu erz=C3=A4hlen\, beleuchten sie\, warum Horror in der de
 utschen Literaturlandschaft ein Schattendasein f=C3=BChrt und werfen einen 
 besonderen Blick auf die Rolle von Frauen im Horror.    Ausgehend von den U
 rspr=C3=BCngen des Genres\, etwa Mary Shelleys Frankenstein oder der Gothic-
 Literatur der Bront=C3=AB-Schwestern\, spannen Lasthaus und Springorum den B
 ogen bis zu aktuellen Adaptionen und feministischen Perspektiven. Im Gespr
 =C3=A4ch geht es um =C3=84ngste\, gesellschaftliche Spiegelungen und die kre
 ative Kraft des Schreckens. Dabei wird deutlich: Horror ist mehr als Blut u
 nd Monster =E2=80=93 es ist ein Genre voller Tiefe\, das gerade aus weiblich
 er Sicht neue Facetten offenbart. Ein Abend f=C3=BCr alle\, die sich gerne d
 em Unheimlichen stellen und dabei neue Blickwinkel entdecken m=C3=B6chten. 
  =0D=0A     Zielgruppe:    alle Interessierten  =0D=0A      Anmeldung:    ohne  =0D=0A 
      Eintritt:    kostenfrei      Ort:    Stadtteilbibliothek im Neuen St
 =C3=A4ndehaus\, Lesecaf=C3=A9  =0D=0A    =0D=0A  =0D=0A  =0D=0A     Foto: AdobeStock -      
   Nando Vidal     =20
URL:https://kalender.karlsruhe.de/db/termine/literatur/horrorwoche_grauen_zwischen_buchdeckeln
CLASS:PUBLIC
DTSTART:20251030T190000
DTEND:20251030T210000
DTSTAMP:20250924T145438
CATEGORIES:Literatur, Vorträge
ATTACH:https://kalender.karlsruhe.de/db/termine/literatur/horrorwoche_grauen_zwischen_buchdeckeln/file/icon_Lesung Lasthaus.jpg
END:VEVENT

END:VCALENDAR
