BEGIN:VCALENDAR
VERSION:2.0
CALSCALE:GREGORIAN
PRODID:https://kalender.karlsruhe.de/db/termine/
METHOD:PUBLISH
BEGIN:VEVENT
UID:580893
ORGANIZER;CN=Bildungsinitiative "junge alte" der EEB Karlsruhe:MAILTO:annette.weiss@kbz.ekiba.de
LOCATION:Gemeindezentrum Durlach
SUMMARY:Internationale Friedenssicherung nach dem Ersten Weltkrieg
DESCRIPTION;ENCODING=QUOTED-PRINTABLE:Deutschlands Beitritt zum V=C3=B6lkerbund 1926=0D=0A=0D=0A  Die Idee\, Konflikte auf
  der Ebene einer internationalen Vertretung von Staaten zu l=C3=B6sen\, kam 
 schon Ende des 19. Jahrhunderts auf. Der Erste Weltkrieg verlieh solchen 
 =C3=9Cberlegungen dann noch einmal besondere Dringlichkeit. Tats=C3=A4chlic
 h wurden ein "V=C3=B6lkerbund" und dessen Satzung dann Teil des Versailler 
 Friedensvertrags\, was die deutsche Wahrnehmung allerdings negativ pr=C3=A4g
 te. Deutschland war zudem vorerst ausgeschlossen\, eine Aufnahme konnte erst
  unter den ver=C3=A4nderten au=C3=9Fenpolitischen Bedingungen einer deutsch
 -franz=C3=B6sischen Ann=C3=A4herung vor einhundert Jahren\, im Jahr 1926\, er
 folgen.    Frau Prof. Dr. Angela Borgstedt\, Professorin am Historischen Sem
 inar der Universit=C3=A4t Mannheim und Leiterin der Forschungsstelle Widers
 tand\, zeichnet den Weg Deutschlands zum Beitritt\, die Entwicklung der V=C3
 =B6lkerbundsgeschichte und die besonderen Rolle der USA in den wichtigsten 
 Schritten nach.    Vortr=C3=A4ge bei den "jungen alten" immer am Mittwoch u
 nd Donnerstag\, jeweils 10.00 bis 11.30 Uhr\, im Gemeindezentrum Durlach\, am 
 Zwinger 5\, und zeitgleich online unter www.jungealte.info =20
URL:https://kalender.karlsruhe.de/db/termine/literatur/internationale_friedenssicherung_nach
CLASS:PUBLIC
DTSTART:20260422T100000
DTEND:20260422T113000
DTSTAMP:20260415T095958
CATEGORIES:Literatur, Vorträge
ATTACH:https://kalender.karlsruhe.de/db/termine/literatur/internationale_friedenssicherung_nach/file/icon_EEB_Logo_junge_alte_grün_Briefkopf.jpg
END:VEVENT

END:VCALENDAR
