BEGIN:VCALENDAR
VERSION:2.0
CALSCALE:GREGORIAN
PRODID:https://kalender.karlsruhe.de/db/termine/
METHOD:PUBLISH
BEGIN:VEVENT
UID:580817
ORGANIZER;CN=Karlsruher Institut für Technologie (VAM):MAILTO:event@kit.edu
LOCATION:Karlsruher Institut für Technologie (Aula FTU)
SUMMARY:Junge Talente - Wissenschaft und Musik
DESCRIPTION;ENCODING=QUOTED-PRINTABLE:Vortrag: "Modellgest=C3=BCtzte Optimierung von Power-to-Chemicals-Prozessen
 " und Klaviermusik von Luise Bold und Eren Parmakerli=0D=0A=0D=0A  Die traditionsre
 iche Veranstaltungsreihe wird in Zusammenarbeit mit dem     F=C3=B6rdervere
 in f=C3=BCr Kunst\, Medien und Wissenschaft e.V.    sowie seit 2022 dem     
 KIT Freundeskreis und F=C3=B6rdergesellschaft e.V.    vom  KIT veranstaltet
 . Im Zentrum stehen Vortr=C3=A4ge =C3=BCber Forschungen des  wissenschaftli
 chen Nachwuchses am KIT. Hier trifft also top-aktuelle und  popul=C3=A4rwis
 senschaftlich aufbereitete Forschung am KIT auf junge Talente  aus dem Umfe
 ld der Hochschule f=C3=BCr Musik Karlsruhe\, denn im Anschluss an  den wisse
 nschaftlichen Vortrag tragen junge Musikerinnen und Musiker  ein\, zumeist k
 ammermusikalisches\, Konzertprogramm vor.        Wissenschaftlicher Vortrag 
      "Modellgest=C3=BCtzte Optimierung von Power-to-Chemicals-Prozessen"   
  Swantje Pauer\,=C2=A0Institut f=C3=BCr Angewandte Materialien =E2=80=93 Ele
 ktrochemische Technologien (KIT)      Musikalische Darbietung: Klavier-Reci
 tal      Es spielen Luise Bold und Eren Parmakerli Werke von Bach bis Proko
 fiev.    Abb.: KIT Veranstaltungsmanagement =20
URL:https://kalender.karlsruhe.de/db/termine/literatur/junge_talente_wissenschaft_und_musik
CLASS:PUBLIC
DTSTART:20260507T173000
DTEND:20260507T190000
DTSTAMP:20260417T091231
CATEGORIES:Literatur, Vorträge
ATTACH:https://kalender.karlsruhe.de/db/termine/literatur/junge_talente_wissenschaft_und_musik/file/icon_GraphicalAbstract_JungeTalente_WuM_Swantje Pauer2.jpg
END:VEVENT

END:VCALENDAR
