BEGIN:VCALENDAR
VERSION:2.0
CALSCALE:GREGORIAN
PRODID:https://kalender.karlsruhe.de/db/termine/
METHOD:PUBLISH
BEGIN:VEVENT
UID:580577
ORGANIZER;CN=Fakultät für Wirtschaftswissenschaften, Hochschule Karlsruhe:MAILTO:info@h-ka.de
LOCATION:Fakultät für Wirtschaftswissenschaften, Hochschule Karlsruhe
SUMMARY:Künstliche Intelligenz und die Zukunft der Arbeit in Europa
DESCRIPTION;ENCODING=QUOTED-PRINTABLE:Welche Chancen haben Studierende im Arbeitsmarkt von morgen?=0D=0A=0D=0A  Vortragsv
 eranstaltung    Referentin:=C2=A0Leonie Gebers\, Beamtete Staatssekret=C3=A4
 rin im Bundesministerium f=C3=BCr Arbeit und Soziales =20
URL:https://kalender.karlsruhe.de/db/termine/literatur/kunstliche_intelligenz_und_die_zukunft
CLASS:PUBLIC
DTSTART:20260513T113000
DTEND:20260513T130000
DTSTAMP:20260330T115643
CATEGORIES:Literatur, Vorträge
ATTACH:https://kalender.karlsruhe.de/db/termine/literatur/kunstliche_intelligenz_und_die_zukunft/file/icon_Vortrag Europawoche 2026 - Leonie Gebers.jpg
END:VEVENT

END:VCALENDAR
