BEGIN:VCALENDAR
VERSION:2.0
CALSCALE:GREGORIAN
PRODID:https://kalender.karlsruhe.de/db/termine/
METHOD:PUBLISH
BEGIN:VEVENT
UID:580507
ORGANIZER;CN=Bildungszentrum Roncalli-Forum Karlsruhe (Bildungswerk der Erzdiözese Freiburg):MAILTO:info@roncalli-forum.de
LOCATION:Bildungszentrum Roncalli-Forum Karlsruhe, Ignatius-Saal
SUMMARY:Lektürekurs Latein
DESCRIPTION;ENCODING=QUOTED-PRINTABLE:Caesar: De Bello Gallico / Der gallische Krieg (6 Termine)=0D=0A=0D=0A  mit Karl-Fr
 iedrich Mohrenstein\, Karlsruhe und Dipl.-Theol. Tobias Licht\, Karlsruhe    
     Anmeldung erforderlich.    Weitere Termine: 28.4./5.5./12.5.2026     
 =20
URL:https://kalender.karlsruhe.de/db/termine/literatur/lekturekurs_latein-2
CLASS:PUBLIC
DTSTART:20260421T183000
DTEND:20260421T200000
DTSTAMP:20260330T112359
CATEGORIES:Literatur, Vorträge
ATTACH:https://kalender.karlsruhe.de/db/termine/literatur/lekturekurs_latein-2/file/icon_Logo BZ RoFo kleiner.jpg
END:VEVENT

END:VCALENDAR
