BEGIN:VCALENDAR
VERSION:2.0
CALSCALE:GREGORIAN
PRODID:https://kalender.karlsruhe.de/db/termine/
METHOD:PUBLISH
BEGIN:VEVENT
UID:580508
ORGANIZER;CN=Bildungszentrum Roncalli-Forum Karlsruhe (Bildungswerk der Erzdiözese Freiburg):MAILTO:info@roncalli-forum.de
LOCATION:Bildungszentrum Roncalli-Forum Karlsruhe, Ignatius-Saal
SUMMARY:Lektürekurs Latein
DESCRIPTION;ENCODING=QUOTED-PRINTABLE:Caesar: De Bello Gallico / Der gallische Krieg (6 Termine)=0D=0A=0D=0A  mit Karl-Fr
 iedrich Mohrenstein\, Karlsruhe und Dipl.-Theol. Tobias Licht\, Karlsruhe    
     Anmeldung erforderlich.    Weitere Termine: 5.5./12.5.2026     =20
URL:https://kalender.karlsruhe.de/db/termine/literatur/lekturekurs_latein-3
CLASS:PUBLIC
DTSTART:20260428T183000
DTEND:20260428T200000
DTSTAMP:20260330T112401
CATEGORIES:Literatur, Vorträge
ATTACH:https://kalender.karlsruhe.de/db/termine/literatur/lekturekurs_latein-3/file/icon_Logo BZ RoFo kleiner.jpg
END:VEVENT

END:VCALENDAR
