BEGIN:VCALENDAR
VERSION:2.0
CALSCALE:GREGORIAN
PRODID:https://kalender.karlsruhe.de/db/termine/
METHOD:PUBLISH
BEGIN:VEVENT
UID:574022
ORGANIZER;CN=Stadtbibliothek Karlsruhe - Stadtbibliothek im Neuen Ständehaus:MAILTO:stadtbibliothek@kultur.karlsruhe.de
LOCATION:Stadtbibliothek Karlsruhe - Stadtbibliothek im Neuen Ständehaus
SUMMARY:LESUNG: Daniela Seel "Nach Eden"
DESCRIPTION;ENCODING=QUOTED-PRINTABLE:kostenfrei\, ohne Anmeldung=0D=0A=0D=0A  Die vielfach ausgezeichnete Lyrikerin und k
 ookbooks-Verlegerin Daniela Seel sucht in ihrem neuen Langgedicht eine Spra
 che =C2=BBnach Eden=C2=AB. Sie lauscht den ausbleibenden Herzt=C3=B6nen ihr
 es ungeborenen Kindes und den Ges=C3=A4ngen ausgerotteter Wale\, betrachtet 
 Goyas Schwarze Gem=C3=A4lde\, liest Humboldts amerikanische Reisetageb=C3=BC
 cher und erz=C3=A4hlt\, wovon die Wissenschaft wenig wei=C3=9F: Sterben. Geb
 orenwerden. Verletzlichkeit. Mutterschaft.  =0D=0A    =C2=BBMama\, warum gibt es
  eigentlich die Welt und die Menschen? Gab es auch einmal nichts?=C2=AB\, fr
 agt das Kind. =C2=BBDas wei=C3=9F niemand so genau=C2=AB\, antwortet die Mut
 ter. =C2=BBVielleicht wegen Gott.=C2=AB =E2=80=93 =C2=BBAber Gott ist ja al
 les=C2=AB\, sagt das Kind. =C2=BBVielleicht ist die Welt dann in Gott gewach
 sen.=C2=AB In Daniela Seels Lesart hat Eva den Garten Eden bewusst verlasse
 n\, =C2=BBsie wusste\, was sie tat\, als sie a=C3=9F=C2=AB. Sie =C2=BBentschei
 det sich. F=C3=BCr Erkenntnis und Lust. F=C3=BCr Mut.=C2=AB Durch ihr Hande
 ln wird der Mensch =C2=BBzum Sterben begabt=C2=AB und auch =C2=BBzur Nacht 
 begabt=C2=AB. Daniela Seels Gedichte denken dar=C3=BCber nach\, was das heut
 e f=C3=BCr uns bedeuten kann\, w=C3=A4hrend sie dem =C2=BBLicht im Mutterlei
 b=C2=AB folgen\, =C2=BBdem Licht der Polarnacht verwandt =E2=80=A6\, gastlich
 \, unb=C3=A4ndig\, unbeirrt\, m=C3=B6chte ich sagen\, vom Tod=C2=AB.  =0D=0A      D
 aniela Seel\,    geb. 1974 in Frankfurt am Main\, lebt als Autorin\,  =C3=9Cbe
 rsetzerin und Verlegerin von kookbooks in Berlin. Sie ver=C3=B6ffentlichte 
  die Gedichtb=C3=A4nde     "ich kann diese stelle nicht wiederfinden    \,  
    was wei=C3=9Ft du schon von pr=C3=A4rie    " und     "Auszug aus Eden"  
   \, sowie gemeinsam mit Frank Kaspar das Radiofeature     was wei=C3=9Ft du
  schon von pr=C3=A4rie    . F=C3=BCr ihre Arbeiten wurde sie vielfach ausge
 zeichnet\, und ihre Gedichte wurden in mehrere Sprachen =C3=BCbersetzt.    I
 n Kooperation mit Lyrik-Empfehlungen (www.lyrik-empfehlungen.de/)  =0D=0A    =0D=0A
       Zielgruppe:    alle Interessierten       =0D=0A   =0D=0A   Eintritt:    koste
 nfrei     =0D=0A   =0D=0A   Ort:    Stadtteilbibliothek im Neuen St=C3=A4ndehaus\, L
 esecaf=C3=A9 im EG  =0D=0A      =0D=0A      Foto: Dirk Skiba\, Cover: Suhkamp Verlag
     =0D=0A =20
URL:https://kalender.karlsruhe.de/db/termine/literatur/lesung_daniela_seel_nach_eden
CLASS:PUBLIC
DTSTART:20250917T170000
DTEND:20250917T180000
DTSTAMP:20250829T104647
CATEGORIES:Literatur, Vorträge
ATTACH:https://kalender.karlsruhe.de/db/termine/literatur/lesung_daniela_seel_nach_eden/file/icon_Lesung Seel.jpg
END:VEVENT

END:VCALENDAR
