BEGIN:VCALENDAR
VERSION:2.0
CALSCALE:GREGORIAN
PRODID:https://kalender.karlsruhe.de/db/termine/
METHOD:PUBLISH
BEGIN:VEVENT
UID:578654
ORGANIZER;CN=Stadtbibliothek Karlsruhe - Kinder- und Jugendbibliothek im Prinz-Max-Palais:MAILTO:jugendbibliothek@kultur.karlsruhe.de
LOCATION:Stadtbibliothek Karlsruhe - Kinder- und Jugendbibliothek Karlsruhe im Prinz-Max-Palais
SUMMARY:LESUNG: Katja Diehl "Komm mit in die Welt von morgen" -- AUSGEBUCHT --
DESCRIPTION;ENCODING=QUOTED-PRINTABLE:mit Anmeldung f=C3=BCr Schluklassen | Klassenstufe 1 bis 4=0D=0A=0D=0A  Eine Geschi
 chte =C3=BCber Mobilit=C3=A4t\, Klimagerechtigkeit und Miteinander in der Zu
 kunft. Die SPIEGEL-Bestsellerautorin macht in ihrem ersten Kindersachbuch L
 ust auf Ver=C3=A4nderung und l=C3=A4dt auf eine spannende Reise in die Welt
  von morgen ein.  =0D=0A     Zielgruppe:    Klassenstufe 1 - 4      Anmeldung f
 =C3=BCr Schulklassen    : Jugendbibliothe@kultur.karlsruhe.de -- AUSGEBUCHT
  --      Eintritt:    kostenfrei      Ort:    Kinder- und Jugendbibliothek 
  =0D=0A =0D=0A   Buchcover: EMF Verlag  =0D=0A=20
URL:https://kalender.karlsruhe.de/db/termine/literatur/lesung_katja_diehl_komm_mit_in_die_welt
CLASS:PUBLIC
DTSTART:20260424T111500
DTEND:20260424T121500
DTSTAMP:20260303T133255
CATEGORIES:Literatur, Vorträge
ATTACH:https://kalender.karlsruhe.de/db/termine/literatur/lesung_katja_diehl_komm_mit_in_die_welt/file/icon_Diehl_Cover_Komm_mit_in_die_Welt_von_morgen_(c)_EMF_Verlag.jpg
END:VEVENT

END:VCALENDAR
