BEGIN:VCALENDAR
VERSION:2.0
CALSCALE:GREGORIAN
PRODID:https://kalender.karlsruhe.de/db/termine/
METHOD:PUBLISH
BEGIN:VEVENT
UID:571562
ORGANIZER;CN=Stadtbibliothek Karlsruhe - Stadtbibliothek im Neuen Ständehaus:MAILTO:stadtbibliothek@kultur.karlsruhe.de
LOCATION:Stadtbibliothek Karlsruhe - Stadtbibliothek im Neuen Ständehaus
SUMMARY:LESUNG: Kristine Bilkau "Halbinsel"
DESCRIPTION;ENCODING=QUOTED-PRINTABLE:Eintritt: 14 =E2=82=AC\, erm=C3=A4=C3=9Figt: 12 =E2=82=AC | In Kooperation m
 it der Stephanus Buchhandlung=0D=0A=0D=0A  Eine Halbinsel im nordfriesischen Watten
 meer. Hier\, an  der Nordsee\, lebt Annett\, Ende vierzig\, seit vielen Jahren\,
  hier hat  sie nach dem fr=C3=BChen Tod ihres Mannes ihre Tochter Linn alle
 in  gro=C3=9Fgezogen. Linn\, Mitte zwanzig\, ist nach dem Abitur voller Energ
 ie in  die Welt gezogen\, hat sich in schwedischen und rum=C3=A4nischen W=C3
 =A4ldern als  Umweltvolont=C3=A4rin engagiert\, arbeitet f=C3=BCr ein Auffor
 stungsprojekt. F=C3=BCr  Annett ist ihre Tochter die Verk=C3=B6rperung von 
 Hoffnung\, Sinn und Zukunft.    Doch auf einer Tagung\, w=C3=A4hrend eines Vo
 rtrags kippt Linn um\,  Kreislaufzusammenbruch\, Ersch=C3=B6pfung. Annett hol
 t sie f=C3=BCr eine Woche zu  sich nach Hause\, ans Meer\, nahe Husum. Aus ei
 ner werden zwei\, dann drei  Wochen\, dann Monate. Zerrieben zwischen Leistun
 gsdruck und Sinnsuche\,  scheint Linn mit Mitte Zwanzig an einem Nullpunkt. 
 Annett f=C3=BChlt sich  hilflos angesichts der Antriebslosigkeit ihrer Toch
 ter. Mit der Zeit  brechen Konflikte auf\, zwischen Mutter und Tochter\, aber
  auch zwischen  zwei Generationen. Die eine muss die Lebenswirklichkeit der
  anderen neu  verstehen lernen.  =0D=0A  Mit gro=C3=9Fem Gesp=C3=BCr f=C3=BCr d
 as Zwischenmenschliche lotet Kristine Bilkau  die dr=C3=A4ngenden Fragen un
 serer Zeit aus =E2=80=93 die Frage nach der  Verantwortung der =C3=84lteren
  f=C3=BCr den Zustand der Welt sowie der Wunsch der  J=C3=BCngeren\, das eig
 ene Leben mit Sinn zu f=C3=BCllen.      Kristine Bilkau    \, 1974 geboren\, 
 z=C3=A4hlt zu den wichtigen Stimmen der  deutschen Gegenwartsliteratur. Sie
  studierte Geschichte und  Amerikanistik in Hamburg und New Orleans. Bereit
 s ihr Romandeb=C3=BCt =C2=BBDie  Gl=C3=BCcklichen=C2=AB fand ein begeistert
 es Medienecho\, wurde mit dem  Franz-Tumler-Preis\, dem Klaus-Michael-K=C3=BC
 hne-Preis und dem Hamburger  F=C3=B6rderpreis f=C3=BCr Literatur ausgezeich
 net und in mehrere Sprachen  =C3=BCbersetzt. Mit =C2=BBNebenan=C2=AB stand 
 sie auf der Shortlist des Deutschen  Buchpreises. Ihr neuer Roman =C2=BBHal
 binsel=C2=AB wurde mit dem Preis der  Leipziger Buchmesse 2025 ausgezeichne
 t. Kristine Bilkau lebt mit ihrer  Familie in Hamburg.    In Kooperation mi
 t der Stephanus Buchhandlung.  =0D=0A    =0D=0A      Zielgruppe:    alle Interessie
 rten       =0D=0A   =0D=0A   Eintritt:    14 =E2=82=AC\, erm=C3=A4=C3=9Figt: 12 =E2
 =82=AC      https://www.stephanusbuch.de/veranstaltungen.php?file=3D2025102
 2001&amp\;sub=3Ddirect      =0D=0A   =0D=0A   Ort:    Stadtteilbibliothek im Neuen S
 t=C3=A4ndehaus\, Lesecaf=C3=A9 im EG  =0D=0A      =0D=0A      Foto: Thorsten Kirves 
    =0D=0A =20
URL:https://kalender.karlsruhe.de/db/termine/literatur/lesung_kristine_bilkau_halbinsel
CLASS:PUBLIC
DTSTART:20251022T190000
DTEND:20251022T210000
DTSTAMP:20250910T121435
CATEGORIES:Literatur, Vorträge
ATTACH:https://kalender.karlsruhe.de/db/termine/literatur/lesung_kristine_bilkau_halbinsel/file/icon_Halbinsel.jpg
END:VEVENT

END:VCALENDAR
