BEGIN:VCALENDAR
VERSION:2.0
CALSCALE:GREGORIAN
PRODID:https://kalender.karlsruhe.de/db/termine/
METHOD:PUBLISH
BEGIN:VEVENT
UID:580887
ORGANIZER;CN=Stadtbibliothek Karlsruhe - Kinder- und Jugendbibliothek im Prinz-Max-Palais:MAILTO:jugendbibliothek@kultur.karlsruhe.de
LOCATION:Stadtbibliothek Karlsruhe - Kinder- und Jugendbibliothek Karlsruhe im Prinz-Max-Palais
SUMMARY:LESUNG: Suza Kolb "Leonard – ein Traktor sucht das Abenteuer"
DESCRIPTION;ENCODING=QUOTED-PRINTABLE:mit Anmeldung\, kostenfrei=0D=0A=0D=0A  Ein tolles Abenteuer\, das kleine Fahrzeugfan
 s spielerisch mit spannenden Infos =C3=BCber die Landwirtschaft und den Bau
 ernhof versorgt. Jeden Tag hilft der junge Traktor Leonard der Familie Jans
 on flei=C3=9Fig bei der Arbeit auf dem Bauernhof. Doch wenn seine besten Fr
 eunde M=C3=A4hdrescher Matze und Milchwagen Michel vorbeikommen\, erz=C3=A4h
 len die zwei so viele spannende Geschichten von der gro=C3=9Fen Welt. Da wi
 rd Leonard richtig neidisch.  =0D=0A  =0D=0A      Zielgruppe:    Kita und Vorschule
       Anmeldung f=C3=BCr Schulklassen    : Jugendbibliothe@kultur.karlsruhe
 .de      Eintritt:    kostenfrei      Ort:    Kinder- und Jugendbibliothek 
  =0D=0A =0D=0A   Buchcover: Christine Faust  =0D=0A=20
URL:https://kalender.karlsruhe.de/db/termine/literatur/lesung_suza_kolb_leonard_ein_traktor
CLASS:PUBLIC
DTSTART:20260616T103000
DTEND:20260616T113000
DTSTAMP:20260413T093319
CATEGORIES:Literatur, Vorträge
ATTACH:https://kalender.karlsruhe.de/db/termine/literatur/lesung_suza_kolb_leonard_ein_traktor/file/icon_2026.06.16_Traktor by Christine Faust.jpg
END:VEVENT

END:VCALENDAR
