BEGIN:VCALENDAR
VERSION:2.0
CALSCALE:GREGORIAN
PRODID:https://kalender.karlsruhe.de/db/termine/
METHOD:PUBLISH
BEGIN:VEVENT
UID:580427
ORGANIZER;CN=Klimabündnis:MAILTO:info@klimabuendnis-karlsruhe.de
LOCATION:Kinemathek Karlsruhe, Kaiserpassage 6,76133 Karlsruhe
SUMMARY:„Los sueños que compartimos - die Träume, die wir teilen“
DESCRIPTION;ENCODING=QUOTED-PRINTABLE:FILMREIHE KLIMA | KRISEN | UTOPIEN=0D=0A=0D=0A  FILMREIHE KLIMA | KRISEN | UTOPIEN 
    =E2=80=9ELos sue=C3=B1os que compartimos - die Tr=C3=A4ume\, die wir teil
 en=E2=80=9C    (MEX 2025\, 101 Min.\, O mit dt. UT\, Regie: Valentina Leduc)  
   Kinemathek Karlsruhe\, 29. April\, 19.00 Uhr    Der Dokumentarfilm beginnt 
 mit einer Utopie: Wir schreiben das Jahr 2050 und die B=C3=B6den\, das Wasse
 r und die heimischen W=C3=A4lder sind wiederhergestellt. Die Umwelt befinde
 t sich in einem =C3=B6kologischen Erholungsprozess. Die Menschen leben in H
 armonie miteinander\, jede*r hat seinen gerechten Anteil und alles verbesser
 t sich. Dann kehrt der Film in die Zeit des Jahres 2020 zur=C3=BCck\, um zu 
 zeigen\, wie der Weg dorthin begann. Mit einer wirkungsvollen Erz=C3=A4hlwei
 se schafft es Los sue=C3=B1os que compartimos\, beim Publikum einen Keim der
  Hoffnung zu s=C3=A4en\, indem es seine Tr=C3=A4ume von Gemeinschaftsorganis
 ation\, lokalem und globalem Widerstand und internationalen Unterst=C3=BCtzu
 ngsnetzwerken teilt. Um eine bessere Zukunft zu haben\, m=C3=BCssen wir an U
 topien glauben und handeln\, um sie zu verwirklichen.    Nach dem Film Gespr
 =C3=A4ch mit der Regisseurin Valentina Leduc und Aktivisti aus dem Film. 
 =20
URL:https://kalender.karlsruhe.de/db/termine/literatur/los_suenos_que_compartimos_die_traume_die_wir_teilen
CLASS:PUBLIC
DTSTART:20260429T190000
DTEND:20260429T210000
DTSTAMP:20260330T115537
CATEGORIES:Literatur, Vorträge
ATTACH:https://kalender.karlsruhe.de/db/termine/literatur/los_suenos_que_compartimos_die_traume_die_wir_teilen/file/icon_los_suenos_que_compartimos.jpg
END:VEVENT

END:VCALENDAR
