BEGIN:VCALENDAR
VERSION:2.0
CALSCALE:GREGORIAN
PRODID:https://kalender.karlsruhe.de/db/termine/
METHOD:PUBLISH
BEGIN:VEVENT
UID:580841
ORGANIZER;CN=Stadtbibliothek Karlsruhe - Kinder- und Jugendbibliothek im Prinz-Max-Palais:MAILTO:jugendbibliothek@kultur.karlsruhe.de
LOCATION:Stadtbibliothek Karlsruhe - Kinder- und Jugendbibliothek Karlsruhe im Prinz-Max-Palais
SUMMARY:Manga Workshop
DESCRIPTION;ENCODING=QUOTED-PRINTABLE:Mit Anmeldung | kostenfrei | ab 10 Jahren=0D=0A=0D=0A  In diesem kreativen Manga=E2
 =80=91Workshop lernen Kinder spielerisch\, eigene Figuren zu zeichnen\, Emoti
 onen darzustellen und kleine Geschichten zu entwickeln. Mit einfachen Schri
 tt=E2=80=91f=C3=BCr=E2=80=91Schritt=E2=80=91Techniken entdecken sie die bun
 te Welt des Manga und gestalten am Ende ihre eigene Mangaseite.  =0D=0A  =0D=0A  =0D=0A
       Zielgruppe    : ab 10 Jahren      Anmeldung    : jugendbibliothek@kul
 tur.karlsruhe.de      Eintritt:    kostenfrei      Ort    : Kinder- und Jug
 endbibliothek    =0D=0A        =0D=0A        Bild: AdobeStock - Oleksandr     =20
URL:https://kalender.karlsruhe.de/db/termine/literatur/manga_workshop
CLASS:PUBLIC
DTSTART:20260509T120000
DTEND:20260509T133000
DTSTAMP:20260420T162438
CATEGORIES:Literatur, Vorträge
ATTACH:https://kalender.karlsruhe.de/db/termine/literatur/manga_workshop/file/icon_2026.05.09_Manga WorkshopAdobeStock_Oleksandr.jpg
END:VEVENT

END:VCALENDAR
