BEGIN:VCALENDAR
VERSION:2.0
CALSCALE:GREGORIAN
PRODID:https://kalender.karlsruhe.de/db/termine/
METHOD:PUBLISH
BEGIN:VEVENT
UID:580727
ORGANIZER;CN=vhs Karlsruhe:MAILTO:info@vhs-karlsruhe.de
LOCATION:vhs Karlsruhe
SUMMARY:Mehr als Babylon Berlin
DESCRIPTION;ENCODING=QUOTED-PRINTABLE:Was lehrt uns die Republik von Weimar heute?=0D=0A=0D=0A  KI-generiertes Symbolbild
     Die erste deutsche Demokratie der Jahre 1919 bis 1933 ist uns eigent=C3
 =BCmlich nahe ger=C3=BCckt:=C2=A0Als aufregendes Medienspektakel eines "Bab
 ylon Berlin"\, als faszinierendes Laboratorium der Moderne\, als Menetekel un
 serer Gegenwart. Wie ein Brennglas b=C3=BCndelt die Weimarer Republik die W
 iderspr=C3=BCche der modernen Welt. Haben wir wieder "Weimarer Verh=C3=A4lt
 nisse"? Und vor allem: Was lernen wir heute von der Republik von Weimar?   
  Auf Grundlage der zeitgeschichtlichen Forschung sucht der Vortrag Antworte
 n auf diese Fragen.    Thomas Hertfelder ist Historiker und war bis Januar 
 2025 Gesch=C3=A4ftsf=C3=BChrer und Mitglied des Vorstands der Stiftung Bund
 espr=C3=A4sident-Theodor-Heuss-Haus in Stuttgart. Die Schwerpunkte seiner A
 rbeit liegen in der Geschichte der Weimarer Republik und der Bundesrepublik
 \, des Liberalismus und der Erinnerungskultur. =20
URL:https://kalender.karlsruhe.de/db/termine/literatur/mehr_als_babylon_berlin
CLASS:PUBLIC
DTSTART:20260618T190000
DTEND:20260618T203000
DTSTAMP:20260408T093635
CATEGORIES:Literatur, Vorträge
ATTACH:https://kalender.karlsruhe.de/db/termine/literatur/mehr_als_babylon_berlin/file/icon_IMG-20260227-WA0055 - KI generiert.jpg
END:VEVENT

END:VCALENDAR
