BEGIN:VCALENDAR
VERSION:2.0
CALSCALE:GREGORIAN
PRODID:https://kalender.karlsruhe.de/db/termine/
METHOD:PUBLISH
BEGIN:VEVENT
UID:580897
ORGANIZER;CN=Grüne Karlsruhe:MAILTO:
LOCATION:Kulturhaus Mikado e.V.
SUMMARY:Nach der Revolte – Lesung mit Penny Prinz
DESCRIPTION;ENCODING=QUOTED-PRINTABLE:=C3=9Cberwachung und Widerstand in Hongkong=0D=0A=0D=0A    Hongkong 2024:    Eine B
 uchh=C3=A4ndlerin\, die nicht mehr wei=C3=9F\, welche B=C3=BCcher  sie noch v
 erkaufen darf. Eine Dozentin\, die nicht denunziert werden  will. Ein Gesetz
 \, so vage\, dass jeder damit gemeint sein k=C3=B6nnte\, ein  intelligenter La
 ternenpfahl\, und ein anarchistisches Caf=C3=A9\, das den  Zust=C3=A4nden tro
 tzt. Dieser Reisebericht beschreibt den Alltag in einer  Stadt\, in der die 
 nationale Sicherheit die Freiheit ersetzt hat. Er  erz=C3=A4hlt von =C3=9Cb
 erwachung\, Repression und Widerstand - und einem Modus  digitaler Herrschaf
 t\, der nicht nur in Hongkong Gestalt annimmt.      Penny  Prinz    arbeitet
  als freie Referentin f=C3=BCr digitale Selbstverteidigung und  am Lehrstuh
 l f=C3=BCr Recht und Digitales ihrer Universit=C3=A4t. Sie ist  Mitgr=C3=BC
 nderin der Kollektive Skills for Utopia und @all und schreibt  nebenher zu 
 netzpolitischen Entwicklungen. Zuletzt zu biometrischer  =C3=9Cberwachung d
 urch die Polizei (erscheint bei Digitalcourage e.V.). Ihre  Lieblingsthemen
  sind =C3=9Cberwachung\, Repression\, und ein Leben jenseits des  Kapitalismu
 s.    Eine Veranstaltung in Zusammenarbeit mit B=C3=BCndnis 90/Die Gr=C3=BC
 nen OV Karlsruhe-Nordstadt.    Eintritt frei!    =0D=0A =20
URL:https://kalender.karlsruhe.de/db/termine/literatur/nach_der_revolte_lesung_mit_penny_prinz
CLASS:PUBLIC
DTSTART:20260522T190000
DTEND:
DTSTAMP:20260415T091809
CATEGORIES:Literatur, Vorträge
ATTACH:https://kalender.karlsruhe.de/db/termine/literatur/nach_der_revolte_lesung_mit_penny_prinz/file/icon_autorinnenportrait_penny.jpg
END:VEVENT

END:VCALENDAR
