BEGIN:VCALENDAR
VERSION:2.0
CALSCALE:GREGORIAN
PRODID:https://kalender.karlsruhe.de/db/termine/
METHOD:PUBLISH
BEGIN:VEVENT
UID:573976
ORGANIZER;CN=Stadtbibliothek Karlsruhe - Stadtteilbibliothek Mühlburg:MAILTO:bibliothek-muehlburg@kultur.karlsruhe.de
LOCATION:Stadtbibliothek karlsruhe - Stadtteilbibliothek Mühlburg - Aktionswoche
SUMMARY:NEW-ADULT-WOCHE: Blind Date mit einem Buch
DESCRIPTION;ENCODING=QUOTED-PRINTABLE:F=C3=BCr junge Erwachsene und alle Interessierten | kostenfrei\, ohne Anmeld
 ung=0D=0A=0D=0A  Neugierig auf das Unbekannte? Fasziniert von gef=C3=BChlvollen Ges
 chichten\, dramatischen Wendungen und romantischen Momenten? Dann wartet in 
 der Stadtbibliothek M=C3=BChlburg ein ganz besonderes Blind Date auf dich 
 =E2=80=93 mit einem unserer New-Adult-B=C3=BCcher.  =0D=0A   Einfach eines der 
 liebevoll verpackten P=C3=A4ckchen ausw=C3=A4hlen und mit nach Hause nehmen
 . Welcher Titel sich darin verbirgt\, bleibt bis zum =C3=96ffnen ein Geheimn
 is. Lass dich =C3=BCberraschen und entdecke eine Geschichte\, die dich ber
 =C3=BChrt\, mitrei=C3=9Ft und vielleicht sogar verzaubert.  =0D=0A =0D=0A =0D=0A     Zie
 lgruppe:    F=C3=BCr junge Erwachsene und alle Interessierten  =0D=0A     Anmel
 dung    : ohne  =0D=0A     Eintritt:    kostenfrei  =0D=0A     Ort:    Stadtteilbib
 liothek M=C3=BChlburg  =0D=0A =0D=0A   Foto: AdobeStock - Prostock-studio =20
URL:https://kalender.karlsruhe.de/db/termine/literatur/new_adult_woche_blind_date_mit_einem_buch
CLASS:PUBLIC
DTSTART:20250920T100000
DTEND:20250927T180000
DTSTAMP:20250819T162414
CATEGORIES:Literatur, Vorträge
ATTACH:https://kalender.karlsruhe.de/db/termine/literatur/new_adult_woche_blind_date_mit_einem_buch/file/icon_Blind Date_AdobeStock_Prostock-studio.jpg
END:VEVENT

END:VCALENDAR
